BEGIN:VCALENDAR
VERSION:2.0
PRODID:-//Powiatowe Centrum Animacji Społecznej - ECPv4.9.10//NONSGML v1.0//EN
CALSCALE:GREGORIAN
METHOD:PUBLISH
X-WR-CALNAME:Powiatowe Centrum Animacji Społecznej
X-ORIGINAL-URL:https://pcastm.pl
X-WR-CALDESC:Events for Powiatowe Centrum Animacji Społecznej
BEGIN:VTIMEZONE
TZID:Europe/Warsaw
BEGIN:DAYLIGHT
TZOFFSETFROM:+0100
TZOFFSETTO:+0200
TZNAME:CEST
DTSTART:20250330T010000
END:DAYLIGHT
BEGIN:STANDARD
TZOFFSETFROM:+0200
TZOFFSETTO:+0100
TZNAME:CET
DTSTART:20251026T010000
END:STANDARD
END:VTIMEZONE
BEGIN:VEVENT
DTSTART;TZID=Europe/Warsaw:20251020T120000
DTEND;TZID=Europe/Warsaw:20251024T200000
DTSTAMP:20260424T110933
CREATED:20251020T085256Z
LAST-MODIFIED:20251020T085256Z
UID:26406-1760961600-1761336000@pcastm.pl
SUMMARY:Siłownia
DESCRIPTION:
URL:https://pcastm.pl/wydarzenie/silownia-100/
LOCATION:Powiatowe Centrum Animacji Społecznej\, Farbiarska 20/24\, Tomaszów Mazowiecki\, Łódzkie\, 97-200\, Polska
ATTACH;FMTTYPE=image/jpeg:https://pcastm.pl/files/2025/06/siłownia-1.jpg
END:VEVENT
BEGIN:VEVENT
DTSTART;TZID=Europe/Warsaw:20251023T120000
DTEND;TZID=Europe/Warsaw:20251023T180000
DTSTAMP:20260424T110933
CREATED:20251020T100457Z
LAST-MODIFIED:20251020T100457Z
UID:26434-1761220800-1761242400@pcastm.pl
SUMMARY:Malarstwo i rysunek
DESCRIPTION:
URL:https://pcastm.pl/wydarzenie/malarstwo-i-rysunek-155/
LOCATION:Powiatowe Centrum Animacji Społecznej\, Farbiarska 20/24\, Tomaszów Mazowiecki\, Łódzkie\, 97-200\, Polska
ATTACH;FMTTYPE=image/jpeg:https://pcastm.pl/files/2025/10/c57fe8d1-b7a3-4967-9a4b-6bf96ad3cd74.jpg
END:VEVENT
BEGIN:VEVENT
DTSTART;TZID=Europe/Warsaw:20251023T150000
DTEND;TZID=Europe/Warsaw:20251023T180000
DTSTAMP:20260424T110933
CREATED:20251020T100148Z
LAST-MODIFIED:20251020T100148Z
UID:26428-1761231600-1761242400@pcastm.pl
SUMMARY:Ceramika
DESCRIPTION:
URL:https://pcastm.pl/wydarzenie/ceramika-124/
LOCATION:Powiatowe Centrum Animacji Społecznej\, Farbiarska 20/24\, Tomaszów Mazowiecki\, Łódzkie\, 97-200\, Polska
ATTACH;FMTTYPE=image/jpeg:https://pcastm.pl/files/2025/06/ceramika-4.jpg
END:VEVENT
BEGIN:VEVENT
DTSTART;TZID=Europe/Warsaw:20251023T160000
DTEND;TZID=Europe/Warsaw:20251023T180000
DTSTAMP:20260424T110934
CREATED:20251020T100548Z
LAST-MODIFIED:20251020T100548Z
UID:26436-1761235200-1761242400@pcastm.pl
SUMMARY:Wspinaczka
DESCRIPTION:
URL:https://pcastm.pl/wydarzenie/wspinaczka-167/
LOCATION:Powiatowe Centrum Animacji Społecznej\, Farbiarska 20/24\, Tomaszów Mazowiecki\, Łódzkie\, 97-200\, Polska
ATTACH;FMTTYPE=image/jpeg:https://pcastm.pl/files/2025/08/111.jpg
END:VEVENT
BEGIN:VEVENT
DTSTART;TZID=Europe/Warsaw:20251023T162000
DTEND;TZID=Europe/Warsaw:20251023T175000
DTSTAMP:20260424T110934
CREATED:20251020T100938Z
LAST-MODIFIED:20251020T100938Z
UID:26438-1761236400-1761241800@pcastm.pl
SUMMARY:Taniec – grupa początkująca
DESCRIPTION:
URL:https://pcastm.pl/wydarzenie/taniec-grupa-poczatkujaca-26/
LOCATION:Powiatowe Centrum Animacji Społecznej\, Farbiarska 20/24\, Tomaszów Mazowiecki\, Łódzkie\, 97-200\, Polska
ATTACH;FMTTYPE=image/jpeg:https://pcastm.pl/files/2025/05/taniec-czw-1204.jpg
END:VEVENT
END:VCALENDAR