BEGIN:VCALENDAR
VERSION:2.0
PRODID:-//Powiatowe Centrum Animacji Społecznej - ECPv4.9.10//NONSGML v1.0//EN
CALSCALE:GREGORIAN
METHOD:PUBLISH
X-WR-CALNAME:Powiatowe Centrum Animacji Społecznej
X-ORIGINAL-URL:https://pcastm.pl
X-WR-CALDESC:Events for Powiatowe Centrum Animacji Społecznej
BEGIN:VTIMEZONE
TZID:Europe/Warsaw
BEGIN:DAYLIGHT
TZOFFSETFROM:+0100
TZOFFSETTO:+0200
TZNAME:CEST
DTSTART:20250330T010000
END:DAYLIGHT
BEGIN:STANDARD
TZOFFSETFROM:+0200
TZOFFSETTO:+0100
TZNAME:CET
DTSTART:20251026T010000
END:STANDARD
END:VTIMEZONE
BEGIN:VEVENT
DTSTART;TZID=Europe/Warsaw:20251030T120000
DTEND;TZID=Europe/Warsaw:20251030T200000
DTSTAMP:20260424T064512
CREATED:20251027T082753Z
LAST-MODIFIED:20251027T082753Z
UID:26495-1761825600-1761854400@pcastm.pl
SUMMARY:Malarstwo i rysunek
DESCRIPTION:
URL:https://pcastm.pl/wydarzenie/malarstwo-i-rysunek-157/
LOCATION:Powiatowe Centrum Animacji Społecznej\, Farbiarska 20/24\, Tomaszów Mazowiecki\, Łódzkie\, 97-200\, Polska
ATTACH;FMTTYPE=image/jpeg:https://pcastm.pl/files/2025/10/33803fdf-6b3d-4697-b92d-e668d5629860.jpg
END:VEVENT
BEGIN:VEVENT
DTSTART;TZID=Europe/Warsaw:20251030T150000
DTEND;TZID=Europe/Warsaw:20251030T180000
DTSTAMP:20260424T064512
CREATED:20251027T082903Z
LAST-MODIFIED:20251027T082903Z
UID:26497-1761836400-1761847200@pcastm.pl
SUMMARY:Ceramika
DESCRIPTION:
URL:https://pcastm.pl/wydarzenie/ceramika-126/
LOCATION:Powiatowe Centrum Animacji Społecznej\, Farbiarska 20/24\, Tomaszów Mazowiecki\, Łódzkie\, 97-200\, Polska
ATTACH;FMTTYPE=image/jpeg:https://pcastm.pl/files/2025/06/ceramika-4.jpg
END:VEVENT
BEGIN:VEVENT
DTSTART;TZID=Europe/Warsaw:20251030T160000
DTEND;TZID=Europe/Warsaw:20251030T180000
DTSTAMP:20260424T064512
CREATED:20251027T083005Z
LAST-MODIFIED:20251027T083005Z
UID:26499-1761840000-1761847200@pcastm.pl
SUMMARY:Wspinaczka
DESCRIPTION:
URL:https://pcastm.pl/wydarzenie/wspinaczka-169/
LOCATION:Powiatowe Centrum Animacji Społecznej\, Farbiarska 20/24\, Tomaszów Mazowiecki\, Łódzkie\, 97-200\, Polska
ATTACH;FMTTYPE=image/jpeg:https://pcastm.pl/files/2025/08/515368914_1225195066252262_7995299922594981413_n.jpg
END:VEVENT
BEGIN:VEVENT
DTSTART;TZID=Europe/Warsaw:20251030T162000
DTEND;TZID=Europe/Warsaw:20251030T175000
DTSTAMP:20260424T064512
CREATED:20251027T083445Z
LAST-MODIFIED:20251027T083445Z
UID:26501-1761841200-1761846600@pcastm.pl
SUMMARY:Taniec – grupa początkująca
DESCRIPTION:
URL:https://pcastm.pl/wydarzenie/taniec-grupa-poczatkujaca-27/
LOCATION:Powiatowe Centrum Animacji Społecznej\, Farbiarska 20/24\, Tomaszów Mazowiecki\, Łódzkie\, 97-200\, Polska
ATTACH;FMTTYPE=image/jpeg:https://pcastm.pl/files/2025/05/taniec-czw-1204.jpg
END:VEVENT
END:VCALENDAR