BEGIN:VCALENDAR
VERSION:2.0
PRODID:-//Powiatowe Centrum Animacji Społecznej - ECPv4.9.10//NONSGML v1.0//EN
CALSCALE:GREGORIAN
METHOD:PUBLISH
X-WR-CALNAME:Powiatowe Centrum Animacji Społecznej
X-ORIGINAL-URL:https://pcastm.pl
X-WR-CALDESC:Events for Powiatowe Centrum Animacji Społecznej
BEGIN:VTIMEZONE
TZID:Europe/Warsaw
BEGIN:DAYLIGHT
TZOFFSETFROM:+0100
TZOFFSETTO:+0200
TZNAME:CEST
DTSTART:20250330T010000
END:DAYLIGHT
BEGIN:STANDARD
TZOFFSETFROM:+0200
TZOFFSETTO:+0100
TZNAME:CET
DTSTART:20251026T010000
END:STANDARD
END:VTIMEZONE
BEGIN:VEVENT
DTSTART;TZID=Europe/Warsaw:20251117T120000
DTEND;TZID=Europe/Warsaw:20251121T200000
DTSTAMP:20260424T063719
CREATED:20251117T083847Z
LAST-MODIFIED:20251117T083847Z
UID:27132-1763380800-1763755200@pcastm.pl
SUMMARY:Siłownia
DESCRIPTION:
URL:https://pcastm.pl/wydarzenie/silownia-103/
LOCATION:Powiatowe Centrum Animacji Społecznej\, Farbiarska 20/24\, Tomaszów Mazowiecki\, Łódzkie\, 97-200\, Polska
ATTACH;FMTTYPE=image/jpeg:https://pcastm.pl/files/2025/06/siłownia-2.jpg
END:VEVENT
BEGIN:VEVENT
DTSTART;TZID=Europe/Warsaw:20251119T153000
DTEND;TZID=Europe/Warsaw:20251119T170000
DTSTAMP:20260424T063719
CREATED:20251117T090754Z
LAST-MODIFIED:20251117T090754Z
UID:27157-1763566200-1763571600@pcastm.pl
SUMMARY:Plastyka
DESCRIPTION:
URL:https://pcastm.pl/wydarzenie/plastyka-52/
LOCATION:Powiatowe Centrum Animacji Społecznej\, Farbiarska 20/24\, Tomaszów Mazowiecki\, Łódzkie\, 97-200\, Polska
ATTACH;FMTTYPE=image/jpeg:https://pcastm.pl/files/2025/06/plastyka-otwarty-małe.jpg
END:VEVENT
BEGIN:VEVENT
DTSTART;TZID=Europe/Warsaw:20251119T160000
DTEND;TZID=Europe/Warsaw:20251119T200000
DTSTAMP:20260424T063719
CREATED:20251117T090919Z
LAST-MODIFIED:20251117T090919Z
UID:27159-1763568000-1763582400@pcastm.pl
SUMMARY:Teatr
DESCRIPTION:
URL:https://pcastm.pl/wydarzenie/teatr-149/
LOCATION:Powiatowe Centrum Animacji Społecznej\, Farbiarska 20/24\, Tomaszów Mazowiecki\, Łódzkie\, 97-200\, Polska
ATTACH;FMTTYPE=image/jpeg:https://pcastm.pl/files/2025/06/teatr-syrenka-3.jpg
END:VEVENT
BEGIN:VEVENT
DTSTART;TZID=Europe/Warsaw:20251119T170000
DTEND;TZID=Europe/Warsaw:20251119T180000
DTSTAMP:20260424T063719
CREATED:20251119T080235Z
LAST-MODIFIED:20251119T080235Z
UID:27223-1763571600-1763575200@pcastm.pl
SUMMARY:Powiatowe obchody „Dnia seniora” w PCAS-ie
DESCRIPTION:
URL:https://pcastm.pl/wydarzenie/powiatowe-obchody-dnia-seniora-w-pcas-ie/
LOCATION:Powiatowe Centrum Animacji Społecznej\, Farbiarska 20/24\, Tomaszów Mazowiecki\, Łódzkie\, 97-200\, Polska
ATTACH;FMTTYPE=image/jpeg:https://pcastm.pl/files/2025/11/Plakat.jpg
END:VEVENT
END:VCALENDAR