BEGIN:VCALENDAR
VERSION:2.0
PRODID:-//Powiatowe Centrum Animacji Społecznej - ECPv4.9.10//NONSGML v1.0//EN
CALSCALE:GREGORIAN
METHOD:PUBLISH
X-WR-CALNAME:Powiatowe Centrum Animacji Społecznej
X-ORIGINAL-URL:https://pcastm.pl
X-WR-CALDESC:Events for Powiatowe Centrum Animacji Społecznej
BEGIN:VTIMEZONE
TZID:Europe/Warsaw
BEGIN:DAYLIGHT
TZOFFSETFROM:+0100
TZOFFSETTO:+0200
TZNAME:CEST
DTSTART:20250330T010000
END:DAYLIGHT
BEGIN:STANDARD
TZOFFSETFROM:+0200
TZOFFSETTO:+0100
TZNAME:CET
DTSTART:20251026T010000
END:STANDARD
END:VTIMEZONE
BEGIN:VEVENT
DTSTART;VALUE=DATE:20251125
DTEND;VALUE=DATE:20251126
DTSTAMP:20260424T063719
CREATED:20251124T073137Z
LAST-MODIFIED:20251124T073137Z
UID:27283-1764028800-1764115199@pcastm.pl
SUMMARY:Film i animacja – ZAPRASZAMY OSOBY CHĘTNE
DESCRIPTION:
URL:https://pcastm.pl/wydarzenie/film-i-animacja-zapraszamy-osoby-chetne-6/
ATTACH;FMTTYPE=image/jpeg:https://pcastm.pl/files/2025/10/film-zapraszamy-1.jpg
END:VEVENT
BEGIN:VEVENT
DTSTART;TZID=Europe/Warsaw:20251125T100000
DTEND;TZID=Europe/Warsaw:20251125T180000
DTSTAMP:20260424T063719
CREATED:20251124T073245Z
LAST-MODIFIED:20251124T073245Z
UID:27285-1764064800-1764093600@pcastm.pl
SUMMARY:Edukacja regionalno-turystyczna
DESCRIPTION:
URL:https://pcastm.pl/wydarzenie/edukacja-regionalno-turystyczna-7/
LOCATION:Powiatowe Centrum Animacji Społecznej\, Farbiarska 20/24\, Tomaszów Mazowiecki\, Łódzkie\, 97-200\, Polska
ATTACH;FMTTYPE=image/jpeg:https://pcastm.pl/files/2025/11/IMG-5.jpg
END:VEVENT
BEGIN:VEVENT
DTSTART;TZID=Europe/Warsaw:20251125T154500
DTEND;TZID=Europe/Warsaw:20251125T171500
DTSTAMP:20260424T063719
CREATED:20251124T073403Z
LAST-MODIFIED:20251124T073403Z
UID:27287-1764085500-1764090900@pcastm.pl
SUMMARY:Plastyka
DESCRIPTION:
URL:https://pcastm.pl/wydarzenie/plastyka-53/
LOCATION:Powiatowe Centrum Animacji Społecznej\, Farbiarska 20/24\, Tomaszów Mazowiecki\, Łódzkie\, 97-200\, Polska
ATTACH;FMTTYPE=image/jpeg:https://pcastm.pl/files/2025/10/e7624946-895d-41f0-971d-5af030e6e2fa.jpg
END:VEVENT
BEGIN:VEVENT
DTSTART;TZID=Europe/Warsaw:20251125T160000
DTEND;TZID=Europe/Warsaw:20251125T180000
DTSTAMP:20260424T063719
CREATED:20251124T073514Z
LAST-MODIFIED:20251124T073514Z
UID:27289-1764086400-1764093600@pcastm.pl
SUMMARY:Wspinaczka
DESCRIPTION:
URL:https://pcastm.pl/wydarzenie/wspinaczka-174/
LOCATION:Powiatowe Centrum Animacji Społecznej\, Farbiarska 20/24\, Tomaszów Mazowiecki\, Łódzkie\, 97-200\, Polska
END:VEVENT
BEGIN:VEVENT
DTSTART;TZID=Europe/Warsaw:20251125T163000
DTEND;TZID=Europe/Warsaw:20251125T171500
DTSTAMP:20260424T063719
CREATED:20251124T085712Z
LAST-MODIFIED:20251124T085712Z
UID:27291-1764088200-1764090900@pcastm.pl
SUMMARY:Akademia Małolata
DESCRIPTION:
URL:https://pcastm.pl/wydarzenie/akademia-malolata-73/
LOCATION:Powiatowe Centrum Animacji Społecznej\, Farbiarska 20/24\, Tomaszów Mazowiecki\, Łódzkie\, 97-200\, Polska
ATTACH;FMTTYPE=image/jpeg:https://pcastm.pl/files/2025/10/5ebd1286-937f-475b-af9e-1e89ebd9c371.jpg
END:VEVENT
END:VCALENDAR