BEGIN:VCALENDAR
VERSION:2.0
PRODID:-//Powiatowe Centrum Animacji Społecznej - ECPv4.9.10//NONSGML v1.0//EN
CALSCALE:GREGORIAN
METHOD:PUBLISH
X-WR-CALNAME:Powiatowe Centrum Animacji Społecznej
X-ORIGINAL-URL:https://pcastm.pl
X-WR-CALDESC:Events for Powiatowe Centrum Animacji Społecznej
BEGIN:VTIMEZONE
TZID:Europe/Warsaw
BEGIN:DAYLIGHT
TZOFFSETFROM:+0100
TZOFFSETTO:+0200
TZNAME:CEST
DTSTART:20250330T010000
END:DAYLIGHT
BEGIN:STANDARD
TZOFFSETFROM:+0200
TZOFFSETTO:+0100
TZNAME:CET
DTSTART:20251026T010000
END:STANDARD
END:VTIMEZONE
BEGIN:VEVENT
DTSTART;TZID=Europe/Warsaw:20251201T120000
DTEND;TZID=Europe/Warsaw:20251205T200000
DTSTAMP:20260424T051849
CREATED:20251201T083423Z
LAST-MODIFIED:20251208T143358Z
UID:27329-1764590400-1764964800@pcastm.pl
SUMMARY:Siłownia
DESCRIPTION:
URL:https://pcastm.pl/wydarzenie/silownia-105/
LOCATION:Powiatowe Centrum Animacji Społecznej\, Farbiarska 20/24\, Tomaszów Mazowiecki\, Łódzkie\, 97-200\, Polska
ATTACH;FMTTYPE=image/jpeg:https://pcastm.pl/files/2025/06/siłownia-2.jpg
END:VEVENT
BEGIN:VEVENT
DTSTART;TZID=Europe/Warsaw:20251204T120000
DTEND;TZID=Europe/Warsaw:20251204T200000
DTSTAMP:20260424T051849
CREATED:20251201T085239Z
LAST-MODIFIED:20251201T085239Z
UID:27355-1764849600-1764878400@pcastm.pl
SUMMARY:Malarstwo i rysunek
DESCRIPTION:
URL:https://pcastm.pl/wydarzenie/malarstwo-i-rysunek-165/
LOCATION:Powiatowe Centrum Animacji Społecznej\, Farbiarska 20/24\, Tomaszów Mazowiecki\, Łódzkie\, 97-200\, Polska
ATTACH;FMTTYPE=image/jpeg:https://pcastm.pl/files/2025/10/adda356d-2bb8-4e2c-9ac0-83ef60bca707.jpg
END:VEVENT
BEGIN:VEVENT
DTSTART;TZID=Europe/Warsaw:20251204T150000
DTEND;TZID=Europe/Warsaw:20251204T180000
DTSTAMP:20260424T051849
CREATED:20251201T085324Z
LAST-MODIFIED:20251201T085324Z
UID:27357-1764860400-1764871200@pcastm.pl
SUMMARY:Ceramika
DESCRIPTION:
URL:https://pcastm.pl/wydarzenie/ceramika-134/
LOCATION:Powiatowe Centrum Animacji Społecznej\, Farbiarska 20/24\, Tomaszów Mazowiecki\, Łódzkie\, 97-200\, Polska
ATTACH;FMTTYPE=image/jpeg:https://pcastm.pl/files/2025/11/ceramika-2025.jpg
END:VEVENT
BEGIN:VEVENT
DTSTART;TZID=Europe/Warsaw:20251204T160000
DTEND;TZID=Europe/Warsaw:20251204T180000
DTSTAMP:20260424T051849
CREATED:20251201T085535Z
LAST-MODIFIED:20251201T085535Z
UID:27359-1764864000-1764871200@pcastm.pl
SUMMARY:Wspinaczka
DESCRIPTION:
URL:https://pcastm.pl/wydarzenie/wspinaczka-177/
LOCATION:Powiatowe Centrum Animacji Społecznej\, Farbiarska 20/24\, Tomaszów Mazowiecki\, Łódzkie\, 97-200\, Polska
END:VEVENT
BEGIN:VEVENT
DTSTART;TZID=Europe/Warsaw:20251204T162000
DTEND;TZID=Europe/Warsaw:20251204T175000
DTSTAMP:20260424T051849
CREATED:20251201T085700Z
LAST-MODIFIED:20251201T085700Z
UID:27361-1764865200-1764870600@pcastm.pl
SUMMARY:Taniec – grupa początkująca
DESCRIPTION:
URL:https://pcastm.pl/wydarzenie/taniec-grupa-poczatkujaca-31/
LOCATION:Powiatowe Centrum Animacji Społecznej\, Farbiarska 20/24\, Tomaszów Mazowiecki\, Łódzkie\, 97-200\, Polska
ATTACH;FMTTYPE=image/jpeg:https://pcastm.pl/files/2025/10/taniec-czw-1204.jpg
END:VEVENT
END:VCALENDAR