BEGIN:VCALENDAR
VERSION:2.0
PRODID:-//Powiatowe Centrum Animacji Społecznej - ECPv4.9.10//NONSGML v1.0//EN
CALSCALE:GREGORIAN
METHOD:PUBLISH
X-WR-CALNAME:Powiatowe Centrum Animacji Społecznej
X-ORIGINAL-URL:https://pcastm.pl
X-WR-CALDESC:Events for Powiatowe Centrum Animacji Społecznej
BEGIN:VTIMEZONE
TZID:Europe/Warsaw
BEGIN:DAYLIGHT
TZOFFSETFROM:+0100
TZOFFSETTO:+0200
TZNAME:CEST
DTSTART:20250330T010000
END:DAYLIGHT
BEGIN:STANDARD
TZOFFSETFROM:+0200
TZOFFSETTO:+0100
TZNAME:CET
DTSTART:20251026T010000
END:STANDARD
END:VTIMEZONE
BEGIN:VEVENT
DTSTART;TZID=Europe/Warsaw:20251208T120000
DTEND;TZID=Europe/Warsaw:20251212T200000
DTSTAMP:20260424T051934
CREATED:20251208T125624Z
LAST-MODIFIED:20251208T125624Z
UID:27372-1765195200-1765569600@pcastm.pl
SUMMARY:Siłownia
DESCRIPTION:
URL:https://pcastm.pl/wydarzenie/silownia-106/
LOCATION:Powiatowe Centrum Animacji Społecznej\, Farbiarska 20/24\, Tomaszów Mazowiecki\, Łódzkie\, 97-200\, Polska
ATTACH;FMTTYPE=image/jpeg:https://pcastm.pl/files/2025/06/siłownia-1.jpg
END:VEVENT
BEGIN:VEVENT
DTSTART;TZID=Europe/Warsaw:20251209T100000
DTEND;TZID=Europe/Warsaw:20251209T180000
DTSTAMP:20260424T051934
CREATED:20251208T130640Z
LAST-MODIFIED:20251208T130640Z
UID:27386-1765274400-1765303200@pcastm.pl
SUMMARY:Edukacja regionalno-turystyczna
DESCRIPTION:
URL:https://pcastm.pl/wydarzenie/edukacja-regionalno-turystyczna-9/
LOCATION:Powiatowe Centrum Animacji Społecznej\, Farbiarska 20/24\, Tomaszów Mazowiecki\, Łódzkie\, 97-200\, Polska
ATTACH;FMTTYPE=image/jpeg:https://pcastm.pl/files/2025/11/DSC03951.jpg
END:VEVENT
BEGIN:VEVENT
DTSTART;TZID=Europe/Warsaw:20251209T154500
DTEND;TZID=Europe/Warsaw:20251209T171500
DTSTAMP:20260424T051934
CREATED:20251208T130956Z
LAST-MODIFIED:20251208T130956Z
UID:27388-1765295100-1765300500@pcastm.pl
SUMMARY:Plastyka
DESCRIPTION:
URL:https://pcastm.pl/wydarzenie/plastyka-57/
LOCATION:Powiatowe Centrum Animacji Społecznej\, Farbiarska 20/24\, Tomaszów Mazowiecki\, Łódzkie\, 97-200\, Polska
END:VEVENT
BEGIN:VEVENT
DTSTART;TZID=Europe/Warsaw:20251209T160000
DTEND;TZID=Europe/Warsaw:20251209T180000
DTSTAMP:20260424T051934
CREATED:20251208T131116Z
LAST-MODIFIED:20251208T131116Z
UID:27391-1765296000-1765303200@pcastm.pl
SUMMARY:Wspinaczka
DESCRIPTION:
URL:https://pcastm.pl/wydarzenie/wspinaczka-178/
LOCATION:Powiatowe Centrum Animacji Społecznej\, Farbiarska 20/24\, Tomaszów Mazowiecki\, Łódzkie\, 97-200\, Polska
ATTACH;FMTTYPE=image/jpeg:https://pcastm.pl/files/2025/08/515102233_1225174232921012_3258136702921336828_n.jpg
END:VEVENT
BEGIN:VEVENT
DTSTART;TZID=Europe/Warsaw:20251209T163000
DTEND;TZID=Europe/Warsaw:20251209T171500
DTSTAMP:20260424T051934
CREATED:20251208T131218Z
LAST-MODIFIED:20251208T131218Z
UID:27393-1765297800-1765300500@pcastm.pl
SUMMARY:Akademia Małolata
DESCRIPTION:
URL:https://pcastm.pl/wydarzenie/akademia-malolata-75/
LOCATION:Powiatowe Centrum Animacji Społecznej\, Farbiarska 20/24\, Tomaszów Mazowiecki\, Łódzkie\, 97-200\, Polska
ATTACH;FMTTYPE=image/jpeg:https://pcastm.pl/files/2025/10/5ebd1286-937f-475b-af9e-1e89ebd9c371.jpg
END:VEVENT
END:VCALENDAR