BEGIN:VCALENDAR
VERSION:2.0
PRODID:-//Powiatowe Centrum Animacji Społecznej - ECPv4.9.10//NONSGML v1.0//EN
CALSCALE:GREGORIAN
METHOD:PUBLISH
X-WR-CALNAME:Powiatowe Centrum Animacji Społecznej
X-ORIGINAL-URL:https://pcastm.pl
X-WR-CALDESC:Events for Powiatowe Centrum Animacji Społecznej
BEGIN:VTIMEZONE
TZID:Europe/Warsaw
BEGIN:DAYLIGHT
TZOFFSETFROM:+0100
TZOFFSETTO:+0200
TZNAME:CEST
DTSTART:20250330T010000
END:DAYLIGHT
BEGIN:STANDARD
TZOFFSETFROM:+0200
TZOFFSETTO:+0100
TZNAME:CET
DTSTART:20251026T010000
END:STANDARD
END:VTIMEZONE
BEGIN:VEVENT
DTSTART;TZID=Europe/Warsaw:20251215T120000
DTEND;TZID=Europe/Warsaw:20251219T200000
DTSTAMP:20260424T051913
CREATED:20251218T083805Z
LAST-MODIFIED:20251218T083805Z
UID:27519-1765800000-1766174400@pcastm.pl
SUMMARY:Siłownia
DESCRIPTION:
URL:https://pcastm.pl/wydarzenie/silownia-107/
LOCATION:Powiatowe Centrum Animacji Społecznej\, Farbiarska 20/24\, Tomaszów Mazowiecki\, Łódzkie\, 97-200\, Polska
ATTACH;FMTTYPE=image/jpeg:https://pcastm.pl/files/2025/06/siłownia-2.jpg
END:VEVENT
BEGIN:VEVENT
DTSTART;TZID=Europe/Warsaw:20251216T100000
DTEND;TZID=Europe/Warsaw:20251216T180000
DTSTAMP:20260424T051913
CREATED:20251218T084414Z
LAST-MODIFIED:20251218T084414Z
UID:27531-1765879200-1765908000@pcastm.pl
SUMMARY:Edukacja regionalno-turystyczna
DESCRIPTION:
URL:https://pcastm.pl/wydarzenie/edukacja-regionalno-turystyczna-10/
LOCATION:Powiatowe Centrum Animacji Społecznej\, Farbiarska 20/24\, Tomaszów Mazowiecki\, Łódzkie\, 97-200\, Polska
ATTACH;FMTTYPE=image/jpeg:https://pcastm.pl/files/2025/11/IMG-5.jpg
END:VEVENT
BEGIN:VEVENT
DTSTART;TZID=Europe/Warsaw:20251216T150500
DTEND;TZID=Europe/Warsaw:20251216T171500
DTSTAMP:20260424T051913
CREATED:20251218T084550Z
LAST-MODIFIED:20251218T084550Z
UID:27533-1765897500-1765905300@pcastm.pl
SUMMARY:Plastyka
DESCRIPTION:
URL:https://pcastm.pl/wydarzenie/plastyka-59/
LOCATION:Powiatowe Centrum Animacji Społecznej\, Farbiarska 20/24\, Tomaszów Mazowiecki\, Łódzkie\, 97-200\, Polska
ATTACH;FMTTYPE=image/jpeg:https://pcastm.pl/files/2025/06/plast.jpg
END:VEVENT
BEGIN:VEVENT
DTSTART;TZID=Europe/Warsaw:20251216T160000
DTEND;TZID=Europe/Warsaw:20251216T180000
DTSTAMP:20260424T051913
CREATED:20251218T084658Z
LAST-MODIFIED:20251218T084658Z
UID:27535-1765900800-1765908000@pcastm.pl
SUMMARY:Wspinaczka
DESCRIPTION:
URL:https://pcastm.pl/wydarzenie/wspinaczka-180/
LOCATION:Powiatowe Centrum Animacji Społecznej\, Farbiarska 20/24\, Tomaszów Mazowiecki\, Łódzkie\, 97-200\, Polska
ATTACH;FMTTYPE=image/jpeg:https://pcastm.pl/files/2025/08/515102233_1225174232921012_3258136702921336828_n.jpg
END:VEVENT
BEGIN:VEVENT
DTSTART;TZID=Europe/Warsaw:20251216T163000
DTEND;TZID=Europe/Warsaw:20251216T171500
DTSTAMP:20260424T051913
CREATED:20251218T084814Z
LAST-MODIFIED:20251218T084814Z
UID:27537-1765902600-1765905300@pcastm.pl
SUMMARY:Akademia Małolata
DESCRIPTION:
URL:https://pcastm.pl/wydarzenie/akademia-malolata-76/
LOCATION:Powiatowe Centrum Animacji Społecznej\, Farbiarska 20/24\, Tomaszów Mazowiecki\, Łódzkie\, 97-200\, Polska
ATTACH;FMTTYPE=image/jpeg:https://pcastm.pl/files/2025/10/8f8157a2-f92d-48fe-9c07-d773f9a6e097.jpg
END:VEVENT
END:VCALENDAR