BEGIN:VCALENDAR
VERSION:2.0
PRODID:-//Powiatowe Centrum Animacji Społecznej - ECPv4.9.10//NONSGML v1.0//EN
CALSCALE:GREGORIAN
METHOD:PUBLISH
X-WR-CALNAME:Powiatowe Centrum Animacji Społecznej
X-ORIGINAL-URL:https://pcastm.pl
X-WR-CALDESC:Events for Powiatowe Centrum Animacji Społecznej
BEGIN:VTIMEZONE
TZID:Europe/Warsaw
BEGIN:DAYLIGHT
TZOFFSETFROM:+0100
TZOFFSETTO:+0200
TZNAME:CEST
DTSTART:20260329T010000
END:DAYLIGHT
BEGIN:STANDARD
TZOFFSETFROM:+0200
TZOFFSETTO:+0100
TZNAME:CET
DTSTART:20261025T010000
END:STANDARD
END:VTIMEZONE
BEGIN:VEVENT
DTSTART;TZID=Europe/Warsaw:20260107T120000
DTEND;TZID=Europe/Warsaw:20260107T200000
DTSTAMP:20260424T094532
CREATED:20260108T075542Z
LAST-MODIFIED:20260108T075542Z
UID:27573-1767787200-1767816000@pcastm.pl
SUMMARY:Siłownia
DESCRIPTION:
URL:https://pcastm.pl/wydarzenie/silownia-108/
LOCATION:Powiatowe Centrum Animacji Społecznej\, Farbiarska 20/24\, Tomaszów Mazowiecki\, Łódzkie\, 97-200\, Polska
END:VEVENT
BEGIN:VEVENT
DTSTART;TZID=Europe/Warsaw:20260107T153000
DTEND;TZID=Europe/Warsaw:20260107T170000
DTSTAMP:20260424T094532
CREATED:20260108T075753Z
LAST-MODIFIED:20260108T075753Z
UID:27577-1767799800-1767805200@pcastm.pl
SUMMARY:Plastyka
DESCRIPTION:
URL:https://pcastm.pl/wydarzenie/plastyka-61/
LOCATION:Powiatowe Centrum Animacji Społecznej\, Farbiarska 20/24\, Tomaszów Mazowiecki\, Łódzkie\, 97-200\, Polska
ATTACH;FMTTYPE=image/jpeg:https://pcastm.pl/files/2025/06/plast.jpg
END:VEVENT
BEGIN:VEVENT
DTSTART;TZID=Europe/Warsaw:20260107T160000
DTEND;TZID=Europe/Warsaw:20260107T200000
DTSTAMP:20260424T094532
CREATED:20260108T075630Z
LAST-MODIFIED:20260108T075630Z
UID:27575-1767801600-1767816000@pcastm.pl
SUMMARY:Teatr
DESCRIPTION:
URL:https://pcastm.pl/wydarzenie/teatr-159/
LOCATION:Powiatowe Centrum Animacji Społecznej\, Farbiarska 20/24\, Tomaszów Mazowiecki\, Łódzkie\, 97-200\, Polska
ATTACH;FMTTYPE=image/jpeg:https://pcastm.pl/files/2025/12/IMG_3002.jpg
END:VEVENT
END:VCALENDAR