BEGIN:VCALENDAR
VERSION:2.0
PRODID:-//Powiatowe Centrum Animacji Społecznej - ECPv4.9.10//NONSGML v1.0//EN
CALSCALE:GREGORIAN
METHOD:PUBLISH
X-WR-CALNAME:Powiatowe Centrum Animacji Społecznej
X-ORIGINAL-URL:https://pcastm.pl
X-WR-CALDESC:Events for Powiatowe Centrum Animacji Społecznej
BEGIN:VTIMEZONE
TZID:Europe/Warsaw
BEGIN:DAYLIGHT
TZOFFSETFROM:+0100
TZOFFSETTO:+0200
TZNAME:CEST
DTSTART:20260329T010000
END:DAYLIGHT
BEGIN:STANDARD
TZOFFSETFROM:+0200
TZOFFSETTO:+0100
TZNAME:CET
DTSTART:20261025T010000
END:STANDARD
END:VTIMEZONE
BEGIN:VEVENT
DTSTART;TZID=Europe/Warsaw:20260112T120000
DTEND;TZID=Europe/Warsaw:20260116T200000
DTSTAMP:20260424T040157
CREATED:20260112T083234Z
LAST-MODIFIED:20260112T094909Z
UID:27593-1768219200-1768593600@pcastm.pl
SUMMARY:Siłownia
DESCRIPTION:
URL:https://pcastm.pl/wydarzenie/silownia-109/
LOCATION:Powiatowe Centrum Animacji Społecznej\, Farbiarska 20/24\, Tomaszów Mazowiecki\, Łódzkie\, 97-200\, Polska
ATTACH;FMTTYPE=image/jpeg:https://pcastm.pl/files/2025/11/siłownia-1.jpg
END:VEVENT
BEGIN:VEVENT
DTSTART;TZID=Europe/Warsaw:20260112T150000
DTEND;TZID=Europe/Warsaw:20260112T180000
DTSTAMP:20260424T040157
CREATED:20260112T083421Z
LAST-MODIFIED:20260112T083421Z
UID:27596-1768230000-1768240800@pcastm.pl
SUMMARY:Ceramika
DESCRIPTION:
URL:https://pcastm.pl/wydarzenie/ceramika-140/
LOCATION:Powiatowe Centrum Animacji Społecznej\, Farbiarska 20/24\, Tomaszów Mazowiecki\, Łódzkie\, 97-200\, Polska
ATTACH;FMTTYPE=image/jpeg:https://pcastm.pl/files/2025/11/ceramika-2025.jpg
END:VEVENT
BEGIN:VEVENT
DTSTART;TZID=Europe/Warsaw:20260112T160000
DTEND;TZID=Europe/Warsaw:20260112T180000
DTSTAMP:20260424T040157
CREATED:20260112T083525Z
LAST-MODIFIED:20260112T083525Z
UID:27594-1768233600-1768240800@pcastm.pl
SUMMARY:Malarstwo i rysunek
DESCRIPTION:
URL:https://pcastm.pl/wydarzenie/malarstwo-i-rysunek-171/
LOCATION:Powiatowe Centrum Animacji Społecznej\, Farbiarska 20/24\, Tomaszów Mazowiecki\, Łódzkie\, 97-200\, Polska
ATTACH;FMTTYPE=image/jpeg:https://pcastm.pl/files/2025/10/470401ee-2318-4b43-b4af-09a69e7120fc.jpg
END:VEVENT
BEGIN:VEVENT
DTSTART;TZID=Europe/Warsaw:20260112T162000
DTEND;TZID=Europe/Warsaw:20260112T175000
DTSTAMP:20260424T040157
CREATED:20260112T083631Z
LAST-MODIFIED:20260112T083631Z
UID:27599-1768234800-1768240200@pcastm.pl
SUMMARY:Taniec – grupa zaawansowana
DESCRIPTION:
URL:https://pcastm.pl/wydarzenie/taniec-grupa-zaawansowana-55/
LOCATION:Powiatowe Centrum Animacji Społecznej\, Farbiarska 20/24\, Tomaszów Mazowiecki\, Łódzkie\, 97-200\, Polska
ATTACH;FMTTYPE=image/jpeg:https://pcastm.pl/files/2025/11/DSC04051.jpg
END:VEVENT
BEGIN:VEVENT
DTSTART;TZID=Europe/Warsaw:20260112T164500
DTEND;TZID=Europe/Warsaw:20260112T181500
DTSTAMP:20260424T040157
CREATED:20260112T083800Z
LAST-MODIFIED:20260112T083800Z
UID:27601-1768236300-1768241700@pcastm.pl
SUMMARY:Hiszpański
DESCRIPTION:
URL:https://pcastm.pl/wydarzenie/hiszpanski-145/
LOCATION:Powiatowe Centrum Animacji Społecznej\, Farbiarska 20/24\, Tomaszów Mazowiecki\, Łódzkie\, 97-200\, Polska
ATTACH;FMTTYPE=image/jpeg:https://pcastm.pl/files/2025/06/spain-gb592fafd5_1280-1.jpg
END:VEVENT
BEGIN:VEVENT
DTSTART;TZID=Europe/Warsaw:20260112T173000
DTEND;TZID=Europe/Warsaw:20260112T190000
DTSTAMP:20260424T040157
CREATED:20260112T083844Z
LAST-MODIFIED:20260112T083844Z
UID:27603-1768239000-1768244400@pcastm.pl
SUMMARY:Włoski
DESCRIPTION:
URL:https://pcastm.pl/wydarzenie/wloski-70/
LOCATION:Powiatowe Centrum Animacji Społecznej\, Farbiarska 20/24\, Tomaszów Mazowiecki\, Łódzkie\, 97-200\, Polska
ATTACH;FMTTYPE=image/jpeg:https://pcastm.pl/files/2025/11/flag-1512128_1280.jpg
END:VEVENT
END:VCALENDAR