BEGIN:VCALENDAR
VERSION:2.0
PRODID:-//Powiatowe Centrum Animacji Społecznej - ECPv4.9.10//NONSGML v1.0//EN
CALSCALE:GREGORIAN
METHOD:PUBLISH
X-WR-CALNAME:Powiatowe Centrum Animacji Społecznej
X-ORIGINAL-URL:https://pcastm.pl
X-WR-CALDESC:Events for Powiatowe Centrum Animacji Społecznej
BEGIN:VTIMEZONE
TZID:Europe/Warsaw
BEGIN:DAYLIGHT
TZOFFSETFROM:+0100
TZOFFSETTO:+0200
TZNAME:CEST
DTSTART:20260329T010000
END:DAYLIGHT
BEGIN:STANDARD
TZOFFSETFROM:+0200
TZOFFSETTO:+0100
TZNAME:CET
DTSTART:20261025T010000
END:STANDARD
END:VTIMEZONE
BEGIN:VEVENT
DTSTART;TZID=Europe/Warsaw:20260112T120000
DTEND;TZID=Europe/Warsaw:20260116T200000
DTSTAMP:20260424T035328
CREATED:20260112T083234Z
LAST-MODIFIED:20260112T094909Z
UID:27593-1768219200-1768593600@pcastm.pl
SUMMARY:Siłownia
DESCRIPTION:
URL:https://pcastm.pl/wydarzenie/silownia-109/
LOCATION:Powiatowe Centrum Animacji Społecznej\, Farbiarska 20/24\, Tomaszów Mazowiecki\, Łódzkie\, 97-200\, Polska
ATTACH;FMTTYPE=image/jpeg:https://pcastm.pl/files/2025/11/siłownia-1.jpg
END:VEVENT
BEGIN:VEVENT
DTSTART;TZID=Europe/Warsaw:20260113T100000
DTEND;TZID=Europe/Warsaw:20260113T180000
DTSTAMP:20260424T035328
CREATED:20260112T090123Z
LAST-MODIFIED:20260112T090123Z
UID:27605-1768298400-1768327200@pcastm.pl
SUMMARY:Edukacja regionalno-turystyczna
DESCRIPTION:
URL:https://pcastm.pl/wydarzenie/edukacja-regionalno-turystyczna-11/
LOCATION:Powiatowe Centrum Animacji Społecznej\, Farbiarska 20/24\, Tomaszów Mazowiecki\, Łódzkie\, 97-200\, Polska
ATTACH;FMTTYPE=image/jpeg:https://pcastm.pl/files/2025/11/DSC03951.jpg
END:VEVENT
BEGIN:VEVENT
DTSTART;TZID=Europe/Warsaw:20260113T154500
DTEND;TZID=Europe/Warsaw:20260113T171500
DTSTAMP:20260424T035328
CREATED:20260112T090308Z
LAST-MODIFIED:20260112T090308Z
UID:27608-1768319100-1768324500@pcastm.pl
SUMMARY:Plastyka
DESCRIPTION:
URL:https://pcastm.pl/wydarzenie/plastyka-62/
LOCATION:Powiatowe Centrum Animacji Społecznej\, Farbiarska 20/24\, Tomaszów Mazowiecki\, Łódzkie\, 97-200\, Polska
ATTACH;FMTTYPE=image/jpeg:https://pcastm.pl/files/2025/06/plastyka-2.jpg
END:VEVENT
BEGIN:VEVENT
DTSTART;TZID=Europe/Warsaw:20260113T160000
DTEND;TZID=Europe/Warsaw:20260113T180000
DTSTAMP:20260424T035328
CREATED:20260112T090425Z
LAST-MODIFIED:20260112T090425Z
UID:27610-1768320000-1768327200@pcastm.pl
SUMMARY:Wspinaczka
DESCRIPTION:
URL:https://pcastm.pl/wydarzenie/wspinaczka-183/
LOCATION:Powiatowe Centrum Animacji Społecznej\, Farbiarska 20/24\, Tomaszów Mazowiecki\, Łódzkie\, 97-200\, Polska
ATTACH;FMTTYPE=image/jpeg:https://pcastm.pl/files/2025/08/515102233_1225174232921012_3258136702921336828_n.jpg
END:VEVENT
BEGIN:VEVENT
DTSTART;TZID=Europe/Warsaw:20260113T163000
DTEND;TZID=Europe/Warsaw:20260113T171500
DTSTAMP:20260424T035328
CREATED:20260112T090539Z
LAST-MODIFIED:20260112T090539Z
UID:27612-1768321800-1768324500@pcastm.pl
SUMMARY:Akademia Małolata
DESCRIPTION:
URL:https://pcastm.pl/wydarzenie/akademia-malolata-77/
LOCATION:Powiatowe Centrum Animacji Społecznej\, Farbiarska 20/24\, Tomaszów Mazowiecki\, Łódzkie\, 97-200\, Polska
ATTACH;FMTTYPE=image/jpeg:https://pcastm.pl/files/2025/10/5ebd1286-937f-475b-af9e-1e89ebd9c371.jpg
END:VEVENT
END:VCALENDAR