BEGIN:VCALENDAR
VERSION:2.0
PRODID:-//Powiatowe Centrum Animacji Społecznej - ECPv4.9.10//NONSGML v1.0//EN
CALSCALE:GREGORIAN
METHOD:PUBLISH
X-WR-CALNAME:Powiatowe Centrum Animacji Społecznej
X-ORIGINAL-URL:https://pcastm.pl
X-WR-CALDESC:Events for Powiatowe Centrum Animacji Społecznej
BEGIN:VTIMEZONE
TZID:Europe/Warsaw
BEGIN:DAYLIGHT
TZOFFSETFROM:+0100
TZOFFSETTO:+0200
TZNAME:CEST
DTSTART:20260329T010000
END:DAYLIGHT
BEGIN:STANDARD
TZOFFSETFROM:+0200
TZOFFSETTO:+0100
TZNAME:CET
DTSTART:20261025T010000
END:STANDARD
END:VTIMEZONE
BEGIN:VEVENT
DTSTART;TZID=Europe/Warsaw:20260112T120000
DTEND;TZID=Europe/Warsaw:20260116T200000
DTSTAMP:20260424T053248
CREATED:20260112T083234Z
LAST-MODIFIED:20260112T094909Z
UID:27593-1768219200-1768593600@pcastm.pl
SUMMARY:Siłownia
DESCRIPTION:
URL:https://pcastm.pl/wydarzenie/silownia-109/
LOCATION:Powiatowe Centrum Animacji Społecznej\, Farbiarska 20/24\, Tomaszów Mazowiecki\, Łódzkie\, 97-200\, Polska
ATTACH;FMTTYPE=image/jpeg:https://pcastm.pl/files/2025/11/siłownia-1.jpg
END:VEVENT
BEGIN:VEVENT
DTSTART;TZID=Europe/Warsaw:20260116T150000
DTEND;TZID=Europe/Warsaw:20260116T170000
DTSTAMP:20260424T053248
CREATED:20260112T100647Z
LAST-MODIFIED:20260112T100647Z
UID:27628-1768575600-1768582800@pcastm.pl
SUMMARY:Fotografia
DESCRIPTION:
URL:https://pcastm.pl/wydarzenie/fotografia-98/
LOCATION:Powiatowe Centrum Animacji Społecznej\, Farbiarska 20/24\, Tomaszów Mazowiecki\, Łódzkie\, 97-200\, Polska
ATTACH;FMTTYPE=image/jpeg:https://pcastm.pl/files/2025/04/foto-plener-2.jpg
END:VEVENT
BEGIN:VEVENT
DTSTART;TZID=Europe/Warsaw:20260116T160000
DTEND;TZID=Europe/Warsaw:20260116T180000
DTSTAMP:20260424T053248
CREATED:20260112T101434Z
LAST-MODIFIED:20260112T101434Z
UID:27633-1768579200-1768586400@pcastm.pl
SUMMARY:Teatr
DESCRIPTION:
URL:https://pcastm.pl/wydarzenie/teatr-162/
LOCATION:Powiatowe Centrum Animacji Społecznej\, Farbiarska 20/24\, Tomaszów Mazowiecki\, Łódzkie\, 97-200\, Polska
ATTACH;FMTTYPE=image/jpeg:https://pcastm.pl/files/2025/05/MG_9531.jpg
END:VEVENT
END:VCALENDAR