BEGIN:VCALENDAR
VERSION:2.0
PRODID:-//Powiatowe Centrum Animacji Społecznej - ECPv4.9.10//NONSGML v1.0//EN
CALSCALE:GREGORIAN
METHOD:PUBLISH
X-WR-CALNAME:Powiatowe Centrum Animacji Społecznej
X-ORIGINAL-URL:https://pcastm.pl
X-WR-CALDESC:Events for Powiatowe Centrum Animacji Społecznej
BEGIN:VTIMEZONE
TZID:Europe/Warsaw
BEGIN:DAYLIGHT
TZOFFSETFROM:+0100
TZOFFSETTO:+0200
TZNAME:CEST
DTSTART:20260329T010000
END:DAYLIGHT
BEGIN:STANDARD
TZOFFSETFROM:+0200
TZOFFSETTO:+0100
TZNAME:CET
DTSTART:20261025T010000
END:STANDARD
END:VTIMEZONE
BEGIN:VEVENT
DTSTART;TZID=Europe/Warsaw:20260119T120000
DTEND;TZID=Europe/Warsaw:20260123T200000
DTSTAMP:20260424T035335
CREATED:20260119T073222Z
LAST-MODIFIED:20260119T082838Z
UID:27657-1768824000-1769198400@pcastm.pl
SUMMARY:Siłownia
DESCRIPTION:
URL:https://pcastm.pl/wydarzenie/silownia-110/
LOCATION:Powiatowe Centrum Animacji Społecznej\, Farbiarska 20/24\, Tomaszów Mazowiecki\, Łódzkie\, 97-200\, Polska
ATTACH;FMTTYPE=image/jpeg:https://pcastm.pl/files/2025/11/siłownia-1.jpg
END:VEVENT
BEGIN:VEVENT
DTSTART;TZID=Europe/Warsaw:20260119T150000
DTEND;TZID=Europe/Warsaw:20260119T180000
DTSTAMP:20260424T035335
CREATED:20260119T073402Z
LAST-MODIFIED:20260119T073402Z
UID:27659-1768834800-1768845600@pcastm.pl
SUMMARY:Ceramika
DESCRIPTION:
URL:https://pcastm.pl/wydarzenie/ceramika-142/
LOCATION:Powiatowe Centrum Animacji Społecznej\, Farbiarska 20/24\, Tomaszów Mazowiecki\, Łódzkie\, 97-200\, Polska
ATTACH;FMTTYPE=image/jpeg:https://pcastm.pl/files/2025/06/ceramika-4.jpg
END:VEVENT
BEGIN:VEVENT
DTSTART;TZID=Europe/Warsaw:20260119T160000
DTEND;TZID=Europe/Warsaw:20260119T180000
DTSTAMP:20260424T035335
CREATED:20260119T073517Z
LAST-MODIFIED:20260119T073517Z
UID:27661-1768838400-1768845600@pcastm.pl
SUMMARY:Malarstwo i rysunek
DESCRIPTION:
URL:https://pcastm.pl/wydarzenie/malarstwo-i-rysunek-173/
LOCATION:Powiatowe Centrum Animacji Społecznej\, Farbiarska 20/24\, Tomaszów Mazowiecki\, Łódzkie\, 97-200\, Polska
ATTACH;FMTTYPE=image/jpeg:https://pcastm.pl/files/2025/10/5866c89c-e9b6-4e8e-a92a-a090e69f75fe.jpg
END:VEVENT
BEGIN:VEVENT
DTSTART;TZID=Europe/Warsaw:20260119T162000
DTEND;TZID=Europe/Warsaw:20260119T175000
DTSTAMP:20260424T035335
CREATED:20260119T073642Z
LAST-MODIFIED:20260119T085051Z
UID:27662-1768839600-1768845000@pcastm.pl
SUMMARY:Taniec – grupa zaawansowana
DESCRIPTION:
URL:https://pcastm.pl/wydarzenie/taniec-grupa-zaawansowana-56/
LOCATION:Powiatowe Centrum Animacji Społecznej\, Farbiarska 20/24\, Tomaszów Mazowiecki\, Łódzkie\, 97-200\, Polska
ATTACH;FMTTYPE=image/jpeg:https://pcastm.pl/files/2025/11/DSC04114.jpg
END:VEVENT
BEGIN:VEVENT
DTSTART;TZID=Europe/Warsaw:20260119T173000
DTEND;TZID=Europe/Warsaw:20260119T190000
DTSTAMP:20260424T035335
CREATED:20260119T081529Z
LAST-MODIFIED:20260119T081529Z
UID:27666-1768843800-1768849200@pcastm.pl
SUMMARY:Włoski
DESCRIPTION:
URL:https://pcastm.pl/wydarzenie/wloski-71/
LOCATION:Powiatowe Centrum Animacji Społecznej\, Farbiarska 20/24\, Tomaszów Mazowiecki\, Łódzkie\, 97-200\, Polska
ATTACH;FMTTYPE=image/jpeg:https://pcastm.pl/files/2026/01/włochy-mapa.jpg
END:VEVENT
END:VCALENDAR