BEGIN:VCALENDAR
VERSION:2.0
PRODID:-//Powiatowe Centrum Animacji Społecznej - ECPv4.9.10//NONSGML v1.0//EN
CALSCALE:GREGORIAN
METHOD:PUBLISH
X-WR-CALNAME:Powiatowe Centrum Animacji Społecznej
X-ORIGINAL-URL:https://pcastm.pl
X-WR-CALDESC:Events for Powiatowe Centrum Animacji Społecznej
BEGIN:VTIMEZONE
TZID:Europe/Warsaw
BEGIN:DAYLIGHT
TZOFFSETFROM:+0100
TZOFFSETTO:+0200
TZNAME:CEST
DTSTART:20260329T010000
END:DAYLIGHT
BEGIN:STANDARD
TZOFFSETFROM:+0200
TZOFFSETTO:+0100
TZNAME:CET
DTSTART:20261025T010000
END:STANDARD
END:VTIMEZONE
BEGIN:VEVENT
DTSTART;TZID=Europe/Warsaw:20260119T120000
DTEND;TZID=Europe/Warsaw:20260123T200000
DTSTAMP:20260424T052226
CREATED:20260119T073222Z
LAST-MODIFIED:20260119T082838Z
UID:27657-1768824000-1769198400@pcastm.pl
SUMMARY:Siłownia
DESCRIPTION:
URL:https://pcastm.pl/wydarzenie/silownia-110/
LOCATION:Powiatowe Centrum Animacji Społecznej\, Farbiarska 20/24\, Tomaszów Mazowiecki\, Łódzkie\, 97-200\, Polska
ATTACH;FMTTYPE=image/jpeg:https://pcastm.pl/files/2025/11/siłownia-1.jpg
END:VEVENT
BEGIN:VEVENT
DTSTART;TZID=Europe/Warsaw:20260123T150000
DTEND;TZID=Europe/Warsaw:20260123T170000
DTSTAMP:20260424T052226
CREATED:20260119T095300Z
LAST-MODIFIED:20260119T095300Z
UID:27693-1769180400-1769187600@pcastm.pl
SUMMARY:Fotografia
DESCRIPTION:
URL:https://pcastm.pl/wydarzenie/fotografia-99/
LOCATION:Powiatowe Centrum Animacji Społecznej\, Farbiarska 20/24\, Tomaszów Mazowiecki\, Łódzkie\, 97-200\, Polska
ATTACH;FMTTYPE=image/jpeg:https://pcastm.pl/files/2025/12/52cd8396-d90d-46bc-a4ad-335edc455a84.jpg
END:VEVENT
BEGIN:VEVENT
DTSTART;TZID=Europe/Warsaw:20260123T160000
DTEND;TZID=Europe/Warsaw:20260123T180000
DTSTAMP:20260424T052226
CREATED:20260119T095343Z
LAST-MODIFIED:20260119T095343Z
UID:27696-1769184000-1769191200@pcastm.pl
SUMMARY:Teatr
DESCRIPTION:
URL:https://pcastm.pl/wydarzenie/teatr-164/
LOCATION:Powiatowe Centrum Animacji Społecznej\, Farbiarska 20/24\, Tomaszów Mazowiecki\, Łódzkie\, 97-200\, Polska
ATTACH;FMTTYPE=image/jpeg:https://pcastm.pl/files/2025/12/IMG_2929.jpg
END:VEVENT
END:VCALENDAR