BEGIN:VCALENDAR
VERSION:2.0
PRODID:-//Powiatowe Centrum Animacji Społecznej - ECPv4.9.10//NONSGML v1.0//EN
CALSCALE:GREGORIAN
METHOD:PUBLISH
X-WR-CALNAME:Powiatowe Centrum Animacji Społecznej
X-ORIGINAL-URL:https://pcastm.pl
X-WR-CALDESC:Events for Powiatowe Centrum Animacji Społecznej
BEGIN:VTIMEZONE
TZID:Europe/Warsaw
BEGIN:DAYLIGHT
TZOFFSETFROM:+0100
TZOFFSETTO:+0200
TZNAME:CEST
DTSTART:20260329T010000
END:DAYLIGHT
BEGIN:STANDARD
TZOFFSETFROM:+0200
TZOFFSETTO:+0100
TZNAME:CET
DTSTART:20261025T010000
END:STANDARD
END:VTIMEZONE
BEGIN:VEVENT
DTSTART;TZID=Europe/Warsaw:20260216T120000
DTEND;TZID=Europe/Warsaw:20260220T200000
DTSTAMP:20260424T023639
CREATED:20260216T072450Z
LAST-MODIFIED:20260216T072450Z
UID:27947-1771243200-1771617600@pcastm.pl
SUMMARY:Siłownia
DESCRIPTION:
URL:https://pcastm.pl/wydarzenie/silownia-112/
LOCATION:Powiatowe Centrum Animacji Społecznej\, Farbiarska 20/24\, Tomaszów Mazowiecki\, Łódzkie\, 97-200\, Polska
ATTACH;FMTTYPE=image/jpeg:https://pcastm.pl/files/2025/11/siłownia-1.jpg
END:VEVENT
BEGIN:VEVENT
DTSTART;TZID=Europe/Warsaw:20260217T100000
DTEND;TZID=Europe/Warsaw:20260217T180000
DTSTAMP:20260424T023640
CREATED:20260216T075447Z
LAST-MODIFIED:20260216T075447Z
UID:27959-1771322400-1771351200@pcastm.pl
SUMMARY:Edukacja regionalno-turystyczna
DESCRIPTION:
URL:https://pcastm.pl/wydarzenie/edukacja-regionalno-turystyczna-14/
LOCATION:Powiatowe Centrum Animacji Społecznej\, Farbiarska 20/24\, Tomaszów Mazowiecki\, Łódzkie\, 97-200\, Polska
ATTACH;FMTTYPE=image/jpeg:https://pcastm.pl/files/2025/11/DSC03951.jpg
END:VEVENT
BEGIN:VEVENT
DTSTART;TZID=Europe/Warsaw:20260217T154500
DTEND;TZID=Europe/Warsaw:20260217T171500
DTSTAMP:20260424T023640
CREATED:20260216T075901Z
LAST-MODIFIED:20260216T075901Z
UID:27960-1771343100-1771348500@pcastm.pl
SUMMARY:Plastyka
DESCRIPTION:
URL:https://pcastm.pl/wydarzenie/plastyka-67/
LOCATION:Powiatowe Centrum Animacji Społecznej\, Farbiarska 20/24\, Tomaszów Mazowiecki\, Łódzkie\, 97-200\, Polska
ATTACH;FMTTYPE=image/jpeg:https://pcastm.pl/files/2025/06/plast.jpg
END:VEVENT
BEGIN:VEVENT
DTSTART;TZID=Europe/Warsaw:20260217T160000
DTEND;TZID=Europe/Warsaw:20260217T180000
DTSTAMP:20260424T023640
CREATED:20260216T080011Z
LAST-MODIFIED:20260216T080011Z
UID:27963-1771344000-1771351200@pcastm.pl
SUMMARY:Wspinaczka
DESCRIPTION:
URL:https://pcastm.pl/wydarzenie/wspinaczka-188/
LOCATION:Powiatowe Centrum Animacji Społecznej\, Farbiarska 20/24\, Tomaszów Mazowiecki\, Łódzkie\, 97-200\, Polska
ATTACH;FMTTYPE=image/jpeg:https://pcastm.pl/files/2025/08/515102233_1225174232921012_3258136702921336828_n.jpg
END:VEVENT
BEGIN:VEVENT
DTSTART;TZID=Europe/Warsaw:20260217T163000
DTEND;TZID=Europe/Warsaw:20260217T171500
DTSTAMP:20260424T023640
CREATED:20260216T080123Z
LAST-MODIFIED:20260216T080123Z
UID:27964-1771345800-1771348500@pcastm.pl
SUMMARY:Akademia Małolata
DESCRIPTION:
URL:https://pcastm.pl/wydarzenie/akademia-malolata-80/
LOCATION:Powiatowe Centrum Animacji Społecznej\, Farbiarska 20/24\, Tomaszów Mazowiecki\, Łódzkie\, 97-200\, Polska
ATTACH;FMTTYPE=image/jpeg:https://pcastm.pl/files/2025/10/IMG_1679.jpg
END:VEVENT
END:VCALENDAR