BEGIN:VCALENDAR
VERSION:2.0
PRODID:-//Powiatowe Centrum Animacji Społecznej - ECPv4.9.10//NONSGML v1.0//EN
CALSCALE:GREGORIAN
METHOD:PUBLISH
X-WR-CALNAME:Powiatowe Centrum Animacji Społecznej
X-ORIGINAL-URL:https://pcastm.pl
X-WR-CALDESC:Events for Powiatowe Centrum Animacji Społecznej
BEGIN:VTIMEZONE
TZID:Europe/Warsaw
BEGIN:DAYLIGHT
TZOFFSETFROM:+0100
TZOFFSETTO:+0200
TZNAME:CEST
DTSTART:20260329T010000
END:DAYLIGHT
BEGIN:STANDARD
TZOFFSETFROM:+0200
TZOFFSETTO:+0100
TZNAME:CET
DTSTART:20261025T010000
END:STANDARD
END:VTIMEZONE
BEGIN:VEVENT
DTSTART;VALUE=DATE:20260223
DTEND;VALUE=DATE:20260224
DTSTAMP:20260424T011136
CREATED:20260223T082748Z
LAST-MODIFIED:20260223T082748Z
UID:27995-1771804800-1771891199@pcastm.pl
SUMMARY:Malarstwo i rysunek - odwołane
DESCRIPTION:
URL:https://pcastm.pl/wydarzenie/malarstwo-i-rysunek-odwolane/
END:VEVENT
BEGIN:VEVENT
DTSTART;TZID=Europe/Warsaw:20260223T120000
DTEND;TZID=Europe/Warsaw:20260227T200000
DTSTAMP:20260424T011136
CREATED:20260223T082654Z
LAST-MODIFIED:20260223T082654Z
UID:27991-1771848000-1772222400@pcastm.pl
SUMMARY:Siłownia
DESCRIPTION:
URL:https://pcastm.pl/wydarzenie/silownia-113/
LOCATION:Powiatowe Centrum Animacji Społecznej\, Farbiarska 20/24\, Tomaszów Mazowiecki\, Łódzkie\, 97-200\, Polska
ATTACH;FMTTYPE=image/jpeg:https://pcastm.pl/files/2025/06/siłownia-2.jpg
END:VEVENT
BEGIN:VEVENT
DTSTART;TZID=Europe/Warsaw:20260223T150000
DTEND;TZID=Europe/Warsaw:20260223T180000
DTSTAMP:20260424T011136
CREATED:20260223T082732Z
LAST-MODIFIED:20260223T082732Z
UID:27993-1771858800-1771869600@pcastm.pl
SUMMARY:Ceramika
DESCRIPTION:
URL:https://pcastm.pl/wydarzenie/ceramika-147/
LOCATION:Powiatowe Centrum Animacji Społecznej\, Farbiarska 20/24\, Tomaszów Mazowiecki\, Łódzkie\, 97-200\, Polska
ATTACH;FMTTYPE=image/jpeg:https://pcastm.pl/files/2025/11/ceramika-2025.jpg
END:VEVENT
BEGIN:VEVENT
DTSTART;TZID=Europe/Warsaw:20260223T162000
DTEND;TZID=Europe/Warsaw:20260223T175000
DTSTAMP:20260424T011136
CREATED:20260223T082834Z
LAST-MODIFIED:20260223T082834Z
UID:27997-1771863600-1771869000@pcastm.pl
SUMMARY:Taniec – grupa zaawansowana
DESCRIPTION:
URL:https://pcastm.pl/wydarzenie/taniec-grupa-zaawansowana-59/
LOCATION:Powiatowe Centrum Animacji Społecznej\, Farbiarska 20/24\, Tomaszów Mazowiecki\, Łódzkie\, 97-200\, Polska
ATTACH;FMTTYPE=image/jpeg:https://pcastm.pl/files/2025/11/DSC04051.jpg
END:VEVENT
BEGIN:VEVENT
DTSTART;TZID=Europe/Warsaw:20260223T164500
DTEND;TZID=Europe/Warsaw:20260223T181500
DTSTAMP:20260424T011136
CREATED:20260223T082949Z
LAST-MODIFIED:20260223T082949Z
UID:27999-1771865100-1771870500@pcastm.pl
SUMMARY:Hiszpański
DESCRIPTION:
URL:https://pcastm.pl/wydarzenie/hiszpanski-148/
LOCATION:Powiatowe Centrum Animacji Społecznej\, Farbiarska 20/24\, Tomaszów Mazowiecki\, Łódzkie\, 97-200\, Polska
ATTACH;FMTTYPE=image/jpeg:https://pcastm.pl/files/2025/06/spain-gb592fafd5_1280-1.jpg
END:VEVENT
BEGIN:VEVENT
DTSTART;TZID=Europe/Warsaw:20260223T173000
DTEND;TZID=Europe/Warsaw:20260223T190000
DTSTAMP:20260424T011136
CREATED:20260223T083056Z
LAST-MODIFIED:20260223T083056Z
UID:28001-1771867800-1771873200@pcastm.pl
SUMMARY:Włoski
DESCRIPTION:
URL:https://pcastm.pl/wydarzenie/wloski-74/
LOCATION:Powiatowe Centrum Animacji Społecznej\, Farbiarska 20/24\, Tomaszów Mazowiecki\, Łódzkie\, 97-200\, Polska
ATTACH;FMTTYPE=image/jpeg:https://pcastm.pl/files/2025/11/flag-1512128_1280.jpg
END:VEVENT
END:VCALENDAR