BEGIN:VCALENDAR
VERSION:2.0
PRODID:-//Powiatowe Centrum Animacji Społecznej - ECPv4.9.10//NONSGML v1.0//EN
CALSCALE:GREGORIAN
METHOD:PUBLISH
X-WR-CALNAME:Powiatowe Centrum Animacji Społecznej
X-ORIGINAL-URL:https://pcastm.pl
X-WR-CALDESC:Events for Powiatowe Centrum Animacji Społecznej
BEGIN:VTIMEZONE
TZID:Europe/Warsaw
BEGIN:DAYLIGHT
TZOFFSETFROM:+0100
TZOFFSETTO:+0200
TZNAME:CEST
DTSTART:20260329T010000
END:DAYLIGHT
BEGIN:STANDARD
TZOFFSETFROM:+0200
TZOFFSETTO:+0100
TZNAME:CET
DTSTART:20261025T010000
END:STANDARD
END:VTIMEZONE
BEGIN:VEVENT
DTSTART;VALUE=DATE:20260302
DTEND;VALUE=DATE:20260303
DTSTAMP:20260424T011136
CREATED:20260303T081449Z
LAST-MODIFIED:20260303T081449Z
UID:28336-1772409600-1772495999@pcastm.pl
SUMMARY:Malarstwo i rysunek – odwołane
DESCRIPTION:
URL:https://pcastm.pl/wydarzenie/malarstwo-i-rysunek-odwolane-2/
END:VEVENT
BEGIN:VEVENT
DTSTART;VALUE=DATE:20260302
DTEND;VALUE=DATE:20260303
DTSTAMP:20260424T011136
CREATED:20260303T081614Z
LAST-MODIFIED:20260303T081614Z
UID:28340-1772409600-1772495999@pcastm.pl
SUMMARY:Taniec – grupa zaawansowana - odwołane
DESCRIPTION:
URL:https://pcastm.pl/wydarzenie/taniec-grupa-zaawansowana-odwolane/
END:VEVENT
BEGIN:VEVENT
DTSTART;TZID=Europe/Warsaw:20260302T120000
DTEND;TZID=Europe/Warsaw:20260306T200000
DTSTAMP:20260424T011136
CREATED:20260303T081422Z
LAST-MODIFIED:20260303T081422Z
UID:28334-1772452800-1772827200@pcastm.pl
SUMMARY:Siłownia
DESCRIPTION:
URL:https://pcastm.pl/wydarzenie/silownia-114/
LOCATION:Powiatowe Centrum Animacji Społecznej\, Farbiarska 20/24\, Tomaszów Mazowiecki\, Łódzkie\, 97-200\, Polska
ATTACH;FMTTYPE=image/jpeg:https://pcastm.pl/files/2025/06/siłownia-1.jpg
END:VEVENT
BEGIN:VEVENT
DTSTART;TZID=Europe/Warsaw:20260302T150000
DTEND;TZID=Europe/Warsaw:20260302T180000
DTSTAMP:20260424T011136
CREATED:20260303T081532Z
LAST-MODIFIED:20260303T081532Z
UID:28337-1772463600-1772474400@pcastm.pl
SUMMARY:Ceramika
DESCRIPTION:
URL:https://pcastm.pl/wydarzenie/ceramika-149/
LOCATION:Powiatowe Centrum Animacji Społecznej\, Farbiarska 20/24\, Tomaszów Mazowiecki\, Łódzkie\, 97-200\, Polska
ATTACH;FMTTYPE=image/jpeg:https://pcastm.pl/files/2025/11/ceramika-2025-1.jpg
END:VEVENT
BEGIN:VEVENT
DTSTART;TZID=Europe/Warsaw:20260302T164500
DTEND;TZID=Europe/Warsaw:20260302T181500
DTSTAMP:20260424T011136
CREATED:20260303T082205Z
LAST-MODIFIED:20260303T082205Z
UID:28341-1772469900-1772475300@pcastm.pl
SUMMARY:Hiszpański
DESCRIPTION:
URL:https://pcastm.pl/wydarzenie/hiszpanski-149/
LOCATION:Powiatowe Centrum Animacji Społecznej\, Farbiarska 20/24\, Tomaszów Mazowiecki\, Łódzkie\, 97-200\, Polska
ATTACH;FMTTYPE=image/jpeg:https://pcastm.pl/files/2025/06/spain-2227254_1280.jpg
END:VEVENT
BEGIN:VEVENT
DTSTART;TZID=Europe/Warsaw:20260302T173000
DTEND;TZID=Europe/Warsaw:20260302T190000
DTSTAMP:20260424T011136
CREATED:20260303T082309Z
LAST-MODIFIED:20260303T082309Z
UID:28344-1772472600-1772478000@pcastm.pl
SUMMARY:Włoski
DESCRIPTION:
URL:https://pcastm.pl/wydarzenie/wloski-75/
LOCATION:Powiatowe Centrum Animacji Społecznej\, Farbiarska 20/24\, Tomaszów Mazowiecki\, Łódzkie\, 97-200\, Polska
ATTACH;FMTTYPE=image/jpeg:https://pcastm.pl/files/2025/11/flag-1512128_1280.jpg
END:VEVENT
END:VCALENDAR