BEGIN:VCALENDAR
VERSION:2.0
PRODID:-//Powiatowe Centrum Animacji Społecznej - ECPv4.9.10//NONSGML v1.0//EN
CALSCALE:GREGORIAN
METHOD:PUBLISH
X-WR-CALNAME:Powiatowe Centrum Animacji Społecznej
X-ORIGINAL-URL:https://pcastm.pl
X-WR-CALDESC:Events for Powiatowe Centrum Animacji Społecznej
BEGIN:VTIMEZONE
TZID:Europe/Warsaw
BEGIN:DAYLIGHT
TZOFFSETFROM:+0100
TZOFFSETTO:+0200
TZNAME:CEST
DTSTART:20260329T010000
END:DAYLIGHT
BEGIN:STANDARD
TZOFFSETFROM:+0200
TZOFFSETTO:+0100
TZNAME:CET
DTSTART:20261025T010000
END:STANDARD
END:VTIMEZONE
BEGIN:VEVENT
DTSTART;TZID=Europe/Warsaw:20260309T120000
DTEND;TZID=Europe/Warsaw:20260313T200000
DTSTAMP:20260424T011212
CREATED:20260309T082858Z
LAST-MODIFIED:20260309T082858Z
UID:28380-1773057600-1773432000@pcastm.pl
SUMMARY:Siłownia
DESCRIPTION:
URL:https://pcastm.pl/wydarzenie/silownia-115/
LOCATION:Powiatowe Centrum Animacji Społecznej\, Farbiarska 20/24\, Tomaszów Mazowiecki\, Łódzkie\, 97-200\, Polska
ATTACH;FMTTYPE=image/jpeg:https://pcastm.pl/files/2025/06/siłownia-2.jpg
END:VEVENT
BEGIN:VEVENT
DTSTART;TZID=Europe/Warsaw:20260309T150000
DTEND;TZID=Europe/Warsaw:20260309T180000
DTSTAMP:20260424T011212
CREATED:20260309T083036Z
LAST-MODIFIED:20260309T083036Z
UID:28383-1773068400-1773079200@pcastm.pl
SUMMARY:Ceramika
DESCRIPTION:\n\n
URL:https://pcastm.pl/wydarzenie/ceramika-151/
LOCATION:Powiatowe Centrum Animacji Społecznej\, Farbiarska 20/24\, Tomaszów Mazowiecki\, Łódzkie\, 97-200\, Polska
ATTACH;FMTTYPE=image/jpeg:https://pcastm.pl/files/2025/06/ceramika-2905.jpg
END:VEVENT
BEGIN:VEVENT
DTSTART;TZID=Europe/Warsaw:20260309T162000
DTEND;TZID=Europe/Warsaw:20260309T175000
DTSTAMP:20260424T011212
CREATED:20260309T083855Z
LAST-MODIFIED:20260309T083855Z
UID:28389-1773073200-1773078600@pcastm.pl
SUMMARY:Taniec – grupa zaawansowana
DESCRIPTION:
URL:https://pcastm.pl/wydarzenie/taniec-grupa-zaawansowana-60/
LOCATION:Powiatowe Centrum Animacji Społecznej\, Farbiarska 20/24\, Tomaszów Mazowiecki\, Łódzkie\, 97-200\, Polska
ATTACH;FMTTYPE=image/jpeg:https://pcastm.pl/files/2025/11/IMG-76.jpg
END:VEVENT
BEGIN:VEVENT
DTSTART;TZID=Europe/Warsaw:20260309T164500
DTEND;TZID=Europe/Warsaw:20260309T181500
DTSTAMP:20260424T011212
CREATED:20260309T083230Z
LAST-MODIFIED:20260309T083230Z
UID:28385-1773074700-1773080100@pcastm.pl
SUMMARY:Hiszpański
DESCRIPTION:
URL:https://pcastm.pl/wydarzenie/hiszpanski-150/
LOCATION:Powiatowe Centrum Animacji Społecznej\, Farbiarska 20/24\, Tomaszów Mazowiecki\, Łódzkie\, 97-200\, Polska
ATTACH;FMTTYPE=image/png:https://pcastm.pl/files/2025/06/flag-g97b51ad64_1280.png
END:VEVENT
BEGIN:VEVENT
DTSTART;TZID=Europe/Warsaw:20260309T173000
DTEND;TZID=Europe/Warsaw:20260309T190000
DTSTAMP:20260424T011212
CREATED:20260309T083333Z
LAST-MODIFIED:20260309T083333Z
UID:28386-1773077400-1773082800@pcastm.pl
SUMMARY:Włoski
DESCRIPTION:
URL:https://pcastm.pl/wydarzenie/wloski-76/
LOCATION:Powiatowe Centrum Animacji Społecznej\, Farbiarska 20/24\, Tomaszów Mazowiecki\, Łódzkie\, 97-200\, Polska
ATTACH;FMTTYPE=image/jpeg:https://pcastm.pl/files/2025/11/flag-1512128_1280.jpg
END:VEVENT
END:VCALENDAR