BEGIN:VCALENDAR
VERSION:2.0
PRODID:-//Powiatowe Centrum Animacji Społecznej - ECPv4.9.10//NONSGML v1.0//EN
CALSCALE:GREGORIAN
METHOD:PUBLISH
X-WR-CALNAME:Powiatowe Centrum Animacji Społecznej
X-ORIGINAL-URL:https://pcastm.pl
X-WR-CALDESC:Events for Powiatowe Centrum Animacji Społecznej
BEGIN:VTIMEZONE
TZID:Europe/Warsaw
BEGIN:DAYLIGHT
TZOFFSETFROM:+0100
TZOFFSETTO:+0200
TZNAME:CEST
DTSTART:20260329T010000
END:DAYLIGHT
BEGIN:STANDARD
TZOFFSETFROM:+0200
TZOFFSETTO:+0100
TZNAME:CET
DTSTART:20261025T010000
END:STANDARD
END:VTIMEZONE
BEGIN:VEVENT
DTSTART;TZID=Europe/Warsaw:20260316T120000
DTEND;TZID=Europe/Warsaw:20260320T200000
DTSTAMP:20260424T022544
CREATED:20260317T144552Z
LAST-MODIFIED:20260317T144552Z
UID:28445-1773662400-1774036800@pcastm.pl
SUMMARY:Siłwonia
DESCRIPTION:
URL:https://pcastm.pl/wydarzenie/silwonia-2/
LOCATION:Powiatowe Centrum Animacji Społecznej\, Farbiarska 20/24\, Tomaszów Mazowiecki\, Łódzkie\, 97-200\, Polska
ATTACH;FMTTYPE=image/jpeg:https://pcastm.pl/files/2025/11/siłownia-1.jpg
END:VEVENT
BEGIN:VEVENT
DTSTART;TZID=Europe/Warsaw:20260318T153000
DTEND;TZID=Europe/Warsaw:20260318T170000
DTSTAMP:20260424T022544
CREATED:20260319T144429Z
LAST-MODIFIED:20260319T144429Z
UID:28470-1773847800-1773853200@pcastm.pl
SUMMARY:Plastyka
DESCRIPTION:
URL:https://pcastm.pl/wydarzenie/plastyka-76/
LOCATION:Powiatowe Centrum Animacji Społecznej\, Farbiarska 20/24\, Tomaszów Mazowiecki\, Łódzkie\, 97-200\, Polska
ATTACH;FMTTYPE=image/jpeg:https://pcastm.pl/files/2026/03/plastyka-1.jpg
END:VEVENT
BEGIN:VEVENT
DTSTART;TZID=Europe/Warsaw:20260318T160000
DTEND;TZID=Europe/Warsaw:20260318T200000
DTSTAMP:20260424T022544
CREATED:20260319T144526Z
LAST-MODIFIED:20260319T144526Z
UID:28473-1773849600-1773864000@pcastm.pl
SUMMARY:Teatr
DESCRIPTION:
URL:https://pcastm.pl/wydarzenie/teatr-173/
LOCATION:Powiatowe Centrum Animacji Społecznej\, Farbiarska 20/24\, Tomaszów Mazowiecki\, Łódzkie\, 97-200\, Polska
ATTACH;FMTTYPE=image/jpeg:https://pcastm.pl/files/2026/02/IMG_6427-1.jpg
END:VEVENT
END:VCALENDAR