BEGIN:VCALENDAR
VERSION:2.0
PRODID:-//Powiatowe Centrum Animacji Społecznej - ECPv4.9.10//NONSGML v1.0//EN
CALSCALE:GREGORIAN
METHOD:PUBLISH
X-WR-CALNAME:Powiatowe Centrum Animacji Społecznej
X-ORIGINAL-URL:https://pcastm.pl
X-WR-CALDESC:Events for Powiatowe Centrum Animacji Społecznej
BEGIN:VTIMEZONE
TZID:Europe/Warsaw
BEGIN:DAYLIGHT
TZOFFSETFROM:+0100
TZOFFSETTO:+0200
TZNAME:CEST
DTSTART:20260329T010000
END:DAYLIGHT
BEGIN:STANDARD
TZOFFSETFROM:+0200
TZOFFSETTO:+0100
TZNAME:CET
DTSTART:20261025T010000
END:STANDARD
END:VTIMEZONE
BEGIN:VEVENT
DTSTART;TZID=Europe/Warsaw:20260316T120000
DTEND;TZID=Europe/Warsaw:20260320T200000
DTSTAMP:20260424T022535
CREATED:20260317T144552Z
LAST-MODIFIED:20260317T144552Z
UID:28445-1773662400-1774036800@pcastm.pl
SUMMARY:Siłwonia
DESCRIPTION:
URL:https://pcastm.pl/wydarzenie/silwonia-2/
LOCATION:Powiatowe Centrum Animacji Społecznej\, Farbiarska 20/24\, Tomaszów Mazowiecki\, Łódzkie\, 97-200\, Polska
ATTACH;FMTTYPE=image/jpeg:https://pcastm.pl/files/2025/11/siłownia-1.jpg
END:VEVENT
BEGIN:VEVENT
DTSTART;TZID=Europe/Warsaw:20260320T150000
DTEND;TZID=Europe/Warsaw:20260320T170000
DTSTAMP:20260424T022535
CREATED:20260324T143836Z
LAST-MODIFIED:20260324T143836Z
UID:28532-1774018800-1774026000@pcastm.pl
SUMMARY:Fotografia
DESCRIPTION:
URL:https://pcastm.pl/wydarzenie/fotografia-105/
LOCATION:Powiatowe Centrum Animacji Społecznej\, Farbiarska 20/24\, Tomaszów Mazowiecki\, Łódzkie\, 97-200\, Polska
ATTACH;FMTTYPE=image/jpeg:https://pcastm.pl/files/2025/06/foto.jpg
END:VEVENT
BEGIN:VEVENT
DTSTART;TZID=Europe/Warsaw:20260320T160000
DTEND;TZID=Europe/Warsaw:20260320T180000
DTSTAMP:20260424T022535
CREATED:20260319T145156Z
LAST-MODIFIED:20260319T145156Z
UID:28483-1774022400-1774029600@pcastm.pl
SUMMARY:Teatr
DESCRIPTION:
URL:https://pcastm.pl/wydarzenie/teatr-174/
LOCATION:Powiatowe Centrum Animacji Społecznej\, Farbiarska 20/24\, Tomaszów Mazowiecki\, Łódzkie\, 97-200\, Polska
ATTACH;FMTTYPE=image/jpeg:https://pcastm.pl/files/2026/02/IMG_6474.jpg
END:VEVENT
END:VCALENDAR