BEGIN:VCALENDAR
VERSION:2.0
PRODID:-//Powiatowe Centrum Animacji Społecznej - ECPv4.9.10//NONSGML v1.0//EN
CALSCALE:GREGORIAN
METHOD:PUBLISH
X-WR-CALNAME:Powiatowe Centrum Animacji Społecznej
X-ORIGINAL-URL:https://pcastm.pl
X-WR-CALDESC:Events for Powiatowe Centrum Animacji Społecznej
BEGIN:VTIMEZONE
TZID:Europe/Warsaw
BEGIN:DAYLIGHT
TZOFFSETFROM:+0100
TZOFFSETTO:+0200
TZNAME:CEST
DTSTART:20260329T010000
END:DAYLIGHT
BEGIN:STANDARD
TZOFFSETFROM:+0200
TZOFFSETTO:+0100
TZNAME:CET
DTSTART:20261025T010000
END:STANDARD
END:VTIMEZONE
BEGIN:VEVENT
DTSTART;TZID=Europe/Warsaw:20260330T120000
DTEND;TZID=Europe/Warsaw:20260402T200000
DTSTAMP:20260423T233729
CREATED:20260330T125458Z
LAST-MODIFIED:20260402T061300Z
UID:28569-1774872000-1775160000@pcastm.pl
SUMMARY:Siłownia
DESCRIPTION:
URL:https://pcastm.pl/wydarzenie/silownia-117/
LOCATION:Powiatowe Centrum Animacji Społecznej\, Farbiarska 20/24\, Tomaszów Mazowiecki\, Łódzkie\, 97-200\, Polska
ATTACH;FMTTYPE=image/jpeg:https://pcastm.pl/files/2025/06/siłownia-2.jpg
END:VEVENT
BEGIN:VEVENT
DTSTART;TZID=Europe/Warsaw:20260330T150000
DTEND;TZID=Europe/Warsaw:20260330T180000
DTSTAMP:20260423T233729
CREATED:20260330T125639Z
LAST-MODIFIED:20260330T125639Z
UID:28571-1774882800-1774893600@pcastm.pl
SUMMARY:Ceramika
DESCRIPTION:
URL:https://pcastm.pl/wydarzenie/ceramika-157/
LOCATION:Powiatowe Centrum Animacji Społecznej\, Farbiarska 20/24\, Tomaszów Mazowiecki\, Łódzkie\, 97-200\, Polska
ATTACH;FMTTYPE=image/jpeg:https://pcastm.pl/files/2026/03/ceramika-2026.jpg
END:VEVENT
BEGIN:VEVENT
DTSTART;TZID=Europe/Warsaw:20260330T160000
DTEND;TZID=Europe/Warsaw:20260330T175000
DTSTAMP:20260423T233729
CREATED:20260330T130046Z
LAST-MODIFIED:20260330T130046Z
UID:28577-1774886400-1774893000@pcastm.pl
SUMMARY:Taniec – grupa zaawansowana
DESCRIPTION:
URL:https://pcastm.pl/wydarzenie/taniec-grupa-zaawansowana-63/
LOCATION:Powiatowe Centrum Animacji Społecznej\, Farbiarska 20/24\, Tomaszów Mazowiecki\, Łódzkie\, 97-200\, Polska
ATTACH;FMTTYPE=image/jpeg:https://pcastm.pl/files/2026/03/IMG_0653.jpg
END:VEVENT
BEGIN:VEVENT
DTSTART;TZID=Europe/Warsaw:20260330T164500
DTEND;TZID=Europe/Warsaw:20260330T181500
DTSTAMP:20260423T233729
CREATED:20260330T125846Z
LAST-MODIFIED:20260330T125846Z
UID:28572-1774889100-1774894500@pcastm.pl
SUMMARY:Hiszpański
DESCRIPTION:
URL:https://pcastm.pl/wydarzenie/hiszpanski-153/
LOCATION:Powiatowe Centrum Animacji Społecznej\, Farbiarska 20/24\, Tomaszów Mazowiecki\, Łódzkie\, 97-200\, Polska
ATTACH;FMTTYPE=image/jpeg:https://pcastm.pl/files/2026/03/spain-2227254_1280.jpg
END:VEVENT
BEGIN:VEVENT
DTSTART;TZID=Europe/Warsaw:20260330T173000
DTEND;TZID=Europe/Warsaw:20260330T190000
DTSTAMP:20260423T233729
CREATED:20260330T125942Z
LAST-MODIFIED:20260330T125942Z
UID:28575-1774891800-1774897200@pcastm.pl
SUMMARY:Włoski
DESCRIPTION:
URL:https://pcastm.pl/wydarzenie/wloski-79/
LOCATION:Powiatowe Centrum Animacji Społecznej\, Farbiarska 20/24\, Tomaszów Mazowiecki\, Łódzkie\, 97-200\, Polska
ATTACH;FMTTYPE=image/jpeg:https://pcastm.pl/files/2026/03/włochy-mapa.jpg
END:VEVENT
END:VCALENDAR