BEGIN:VCALENDAR
VERSION:2.0
PRODID:-//Powiatowe Centrum Animacji Społecznej - ECPv4.9.10//NONSGML v1.0//EN
CALSCALE:GREGORIAN
METHOD:PUBLISH
X-WR-CALNAME:Powiatowe Centrum Animacji Społecznej
X-ORIGINAL-URL:https://pcastm.pl
X-WR-CALDESC:Events for Powiatowe Centrum Animacji Społecznej
BEGIN:VTIMEZONE
TZID:Europe/Warsaw
BEGIN:DAYLIGHT
TZOFFSETFROM:+0100
TZOFFSETTO:+0200
TZNAME:CEST
DTSTART:20260329T010000
END:DAYLIGHT
BEGIN:STANDARD
TZOFFSETFROM:+0200
TZOFFSETTO:+0100
TZNAME:CET
DTSTART:20261025T010000
END:STANDARD
END:VTIMEZONE
BEGIN:VEVENT
DTSTART;TZID=Europe/Warsaw:20260407T120000
DTEND;TZID=Europe/Warsaw:20260410T200000
DTSTAMP:20260425T105006
CREATED:20260407T130009Z
LAST-MODIFIED:20260407T130009Z
UID:28609-1775563200-1775851200@pcastm.pl
SUMMARY:Siłownia
DESCRIPTION:
URL:https://pcastm.pl/wydarzenie/silownia-118/
LOCATION:Powiatowe Centrum Animacji Społecznej\, Farbiarska 20/24\, Tomaszów Mazowiecki\, Łódzkie\, 97-200\, Polska
ATTACH;FMTTYPE=image/jpeg:https://pcastm.pl/files/2025/06/siłownia-2.jpg
END:VEVENT
BEGIN:VEVENT
DTSTART;VALUE=DATE:20260409
DTEND;VALUE=DATE:20260410
DTSTAMP:20260425T105006
CREATED:20260407T130700Z
LAST-MODIFIED:20260410T124959Z
UID:28625-1775692800-1775779199@pcastm.pl
SUMMARY:Ceramika - odwołane
DESCRIPTION:
URL:https://pcastm.pl/wydarzenie/ceramika-odwolane-3/
LOCATION:Łódzkie
ATTACH;FMTTYPE=image/png:https://pcastm.pl/files/2026/03/UWAGA-pomarańczowe.png
END:VEVENT
BEGIN:VEVENT
DTSTART;TZID=Europe/Warsaw:20260409T120000
DTEND;TZID=Europe/Warsaw:20260409T200000
DTSTAMP:20260425T105006
CREATED:20260407T130634Z
LAST-MODIFIED:20260407T130634Z
UID:28623-1775736000-1775764800@pcastm.pl
SUMMARY:Malarstwo i rysunek
DESCRIPTION:
URL:https://pcastm.pl/wydarzenie/malarstwo-i-rysunek-184/
LOCATION:Powiatowe Centrum Animacji Społecznej\, Farbiarska 20/24\, Tomaszów Mazowiecki\, Łódzkie\, 97-200\, Polska
ATTACH;FMTTYPE=image/jpeg:https://pcastm.pl/files/2025/06/malarstwo-2.jpg
END:VEVENT
BEGIN:VEVENT
DTSTART;TZID=Europe/Warsaw:20260409T162000
DTEND;TZID=Europe/Warsaw:20260409T175000
DTSTAMP:20260425T105006
CREATED:20260407T130752Z
LAST-MODIFIED:20260407T130752Z
UID:28627-1775751600-1775757000@pcastm.pl
SUMMARY:Taniec – grupa początkująca
DESCRIPTION:
URL:https://pcastm.pl/wydarzenie/taniec-grupa-poczatkujaca-44/
LOCATION:Powiatowe Centrum Animacji Społecznej\, Farbiarska 20/24\, Tomaszów Mazowiecki\, Łódzkie\, 97-200\, Polska
ATTACH;FMTTYPE=image/jpeg:https://pcastm.pl/files/2026/03/IMG-70.jpg
END:VEVENT
END:VCALENDAR