BEGIN:VCALENDAR
VERSION:2.0
PRODID:-//Powiatowe Centrum Animacji Społecznej - ECPv4.9.10//NONSGML v1.0//EN
CALSCALE:GREGORIAN
METHOD:PUBLISH
X-WR-CALNAME:Powiatowe Centrum Animacji Społecznej
X-ORIGINAL-URL:https://pcastm.pl
X-WR-CALDESC:Events for Powiatowe Centrum Animacji Społecznej
BEGIN:VTIMEZONE
TZID:Europe/Warsaw
BEGIN:DAYLIGHT
TZOFFSETFROM:+0100
TZOFFSETTO:+0200
TZNAME:CEST
DTSTART:20230326T010000
END:DAYLIGHT
BEGIN:STANDARD
TZOFFSETFROM:+0200
TZOFFSETTO:+0100
TZNAME:CET
DTSTART:20231029T010000
END:STANDARD
END:VTIMEZONE
BEGIN:VEVENT
DTSTART;TZID=Europe/Warsaw:20230330T160000
DTEND;TZID=Europe/Warsaw:20230330T180000
DTSTAMP:20260424T223750
CREATED:20230329T093548Z
LAST-MODIFIED:20230329T093616Z
UID:12387-1680192000-1680199200@pcastm.pl
SUMMARY:Ceramika
DESCRIPTION:Prace manualne nie są Ci obce? Chciałbyś spróbować stworzyć coś wyjątkowego z gliny? Zapraszamy! To świetna propozycja zarówno dla dzieci\, młodzieży i dorosłych. \n16.00-17.00 dzieci \n17.30-18.30 młodzież i dorośli \nhttps://www.facebook.com/pcastomaszowmaz/posts/633286588776449 \n
URL:https://pcastm.pl/wydarzenie/12387/
LOCATION:Powiatowe Centrum Animacji Społecznej\, Farbiarska 20/24\, Tomaszów Mazowiecki\, Łódzkie\, 97-200\, Polska
ATTACH;FMTTYPE=image/jpeg:https://pcastm.pl/files/2023/03/ceramika-foto-1.jpg
END:VEVENT
END:VCALENDAR