BEGIN:VCALENDAR
VERSION:2.0
PRODID:-//Powiatowe Centrum Animacji Społecznej - ECPv4.9.10//NONSGML v1.0//EN
CALSCALE:GREGORIAN
METHOD:PUBLISH
X-WR-CALNAME:Powiatowe Centrum Animacji Społecznej
X-ORIGINAL-URL:https://pcastm.pl
X-WR-CALDESC:Events for Powiatowe Centrum Animacji Społecznej
BEGIN:VTIMEZONE
TZID:Europe/Warsaw
BEGIN:DAYLIGHT
TZOFFSETFROM:+0100
TZOFFSETTO:+0200
TZNAME:CEST
DTSTART:20230326T010000
END:DAYLIGHT
BEGIN:STANDARD
TZOFFSETFROM:+0200
TZOFFSETTO:+0100
TZNAME:CET
DTSTART:20231029T010000
END:STANDARD
END:VTIMEZONE
BEGIN:VEVENT
DTSTART;TZID=Europe/Warsaw:20230413T162000
DTEND;TZID=Europe/Warsaw:20230413T175000
DTSTAMP:20260424T173109
CREATED:20230411T113113Z
LAST-MODIFIED:20230413T133808Z
UID:12537-1681402800-1681408200@pcastm.pl
SUMMARY:Taniec
DESCRIPTION:Wiosna\, wiosna…To dobry czas\, żeby wstać z kanapy i zacząć się ruszać. Pomocne mogą być taneczne rytmy. To super trening nie tylko dla ciała\, ale i dla ducha. \n
URL:https://pcastm.pl/wydarzenie/12537/
LOCATION:Powiatowe Centrum Animacji Społecznej\, Farbiarska 20/24\, Tomaszów Mazowiecki\, Łódzkie\, 97-200\, Polska
ATTACH;FMTTYPE=image/jpeg:https://pcastm.pl/files/2023/04/taniec-wiosna.jpg
END:VEVENT
END:VCALENDAR