BEGIN:VCALENDAR
VERSION:2.0
PRODID:-//Powiatowe Centrum Animacji Społecznej - ECPv4.9.10//NONSGML v1.0//EN
CALSCALE:GREGORIAN
METHOD:PUBLISH
X-WR-CALNAME:Powiatowe Centrum Animacji Społecznej
X-ORIGINAL-URL:https://pcastm.pl
X-WR-CALDESC:Events for Powiatowe Centrum Animacji Społecznej
BEGIN:VTIMEZONE
TZID:Europe/Warsaw
BEGIN:DAYLIGHT
TZOFFSETFROM:+0100
TZOFFSETTO:+0200
TZNAME:CEST
DTSTART:20230326T010000
END:DAYLIGHT
BEGIN:STANDARD
TZOFFSETFROM:+0200
TZOFFSETTO:+0100
TZNAME:CET
DTSTART:20231029T010000
END:STANDARD
END:VTIMEZONE
BEGIN:VEVENT
DTSTART;TZID=Europe/Warsaw:20230525T170000
DTEND;TZID=Europe/Warsaw:20230525T180000
DTSTAMP:20260424T175146
CREATED:20230524T074400Z
LAST-MODIFIED:20230524T074400Z
UID:13147-1685034000-1685037600@pcastm.pl
SUMMARY:Adobe Photoshop
DESCRIPTION:Zajęcia są przeznaczone dla osób\, które chcą poznać nowoczesne mechanizmy obróbki grafiki. Za pomocą Photoshopa można retuszować obrazki\, stosować efekty specjalne\, wklejać fragmenty innych obrazów czy wprowadzać teksty\, a także korygować kolory lub wyostrzać obrazy. \n
URL:https://pcastm.pl/wydarzenie/adobe-photoshop-6/
LOCATION:Powiatowe Centrum Animacji Społecznej\, Farbiarska 20/24\, Tomaszów Mazowiecki\, Łódzkie\, 97-200\, Polska
ATTACH;FMTTYPE=image/jpeg:https://pcastm.pl/files/2023/05/shop-foto-1.jpg
END:VEVENT
END:VCALENDAR