BEGIN:VCALENDAR
VERSION:2.0
PRODID:-//Powiatowe Centrum Animacji Społecznej - ECPv4.9.10//NONSGML v1.0//EN
CALSCALE:GREGORIAN
METHOD:PUBLISH
X-WR-CALNAME:Powiatowe Centrum Animacji Społecznej
X-ORIGINAL-URL:https://pcastm.pl
X-WR-CALDESC:Events for Powiatowe Centrum Animacji Społecznej
BEGIN:VTIMEZONE
TZID:Europe/Warsaw
BEGIN:DAYLIGHT
TZOFFSETFROM:+0100
TZOFFSETTO:+0200
TZNAME:CEST
DTSTART:20250330T010000
END:DAYLIGHT
BEGIN:STANDARD
TZOFFSETFROM:+0200
TZOFFSETTO:+0100
TZNAME:CET
DTSTART:20251026T010000
END:STANDARD
END:VTIMEZONE
BEGIN:VEVENT
DTSTART;TZID=Europe/Warsaw:20250602T160000
DTEND;TZID=Europe/Warsaw:20250602T164500
DTSTAMP:20260424T225906
CREATED:20250602T065958Z
LAST-MODIFIED:20250602T065958Z
UID:25068-1748880000-1748882700@pcastm.pl
SUMMARY:Akademia Małolata z tańcem
DESCRIPTION:Zajęcia rytmiczno-muzyczne przeznaczone dla dzieci od 4 roku życia\, na których maluchy uczą się też podstaw różnych tańców ludowych. \n
URL:https://pcastm.pl/wydarzenie/akademia-malolata-z-tancem-57/
LOCATION:Powiatowe Centrum Animacji Społecznej\, Farbiarska 20/24\, Tomaszów Mazowiecki\, Łódzkie\, 97-200\, Polska
ATTACH;FMTTYPE=image/jpeg:https://pcastm.pl/files/2025/05/malolata-z-tańcem.jpg
END:VEVENT
END:VCALENDAR