BEGIN:VCALENDAR
VERSION:2.0
PRODID:-//Powiatowe Centrum Animacji Społecznej - ECPv4.9.10//NONSGML v1.0//EN
CALSCALE:GREGORIAN
METHOD:PUBLISH
X-WR-CALNAME:Powiatowe Centrum Animacji Społecznej
X-ORIGINAL-URL:https://pcastm.pl
X-WR-CALDESC:Events for Powiatowe Centrum Animacji Społecznej
BEGIN:VTIMEZONE
TZID:Europe/Warsaw
BEGIN:DAYLIGHT
TZOFFSETFROM:+0100
TZOFFSETTO:+0200
TZNAME:CEST
DTSTART:20230326T010000
END:DAYLIGHT
BEGIN:STANDARD
TZOFFSETFROM:+0200
TZOFFSETTO:+0100
TZNAME:CET
DTSTART:20231029T010000
END:STANDARD
END:VTIMEZONE
BEGIN:VEVENT
DTSTART;TZID=Europe/Warsaw:20230406T160000
DTEND;TZID=Europe/Warsaw:20230406T183000
DTSTAMP:20260424T211003
CREATED:20230405T102030Z
LAST-MODIFIED:20230406T090503Z
UID:12503-1680796800-1680805800@pcastm.pl
SUMMARY:Ceramika-odrobione w innym terminie
DESCRIPTION:Praca z gliną wycisza\, uczy cierpliwości i koncentracji. Spotkania mają charakter zabawy. To świetna propozycja zarówno dla dzieci\, młodzieży i dorosłych. \n16.00-17.00 dzieci \n17.30-18.30 młodzież i dorośli \n
URL:https://pcastm.pl/wydarzenie/ceramika-5/
LOCATION:Powiatowe Centrum Animacji Społecznej\, Farbiarska 20/24\, Tomaszów Mazowiecki\, Łódzkie\, 97-200\, Polska
ATTACH;FMTTYPE=image/jpeg:https://pcastm.pl/files/2023/03/ceramika-foto-1.jpg
END:VEVENT
END:VCALENDAR