BEGIN:VCALENDAR
VERSION:2.0
PRODID:-//Powiatowe Centrum Animacji Społecznej - ECPv4.9.10//NONSGML v1.0//EN
CALSCALE:GREGORIAN
METHOD:PUBLISH
X-WR-CALNAME:Powiatowe Centrum Animacji Społecznej
X-ORIGINAL-URL:https://pcastm.pl
X-WR-CALDESC:Events for Powiatowe Centrum Animacji Społecznej
BEGIN:VTIMEZONE
TZID:Europe/Warsaw
BEGIN:DAYLIGHT
TZOFFSETFROM:+0100
TZOFFSETTO:+0200
TZNAME:CEST
DTSTART:20250330T010000
END:DAYLIGHT
BEGIN:STANDARD
TZOFFSETFROM:+0200
TZOFFSETTO:+0100
TZNAME:CET
DTSTART:20251026T010000
END:STANDARD
END:VTIMEZONE
BEGIN:VEVENT
DTSTART;TZID=Europe/Warsaw:20250304T180000
DTEND;TZID=Europe/Warsaw:20250304T190000
DTSTAMP:20260425T035829
CREATED:20250303T070920Z
LAST-MODIFIED:20250303T070921Z
UID:23104-1741111200-1741114800@pcastm.pl
SUMMARY:Dzień Kobiet z Kabaretem OT.TO
DESCRIPTION:Powiatowe Centrum Animacji Społecznej zaprasza na Dzień Kobiet z kabaretem OT.TO \n \n
URL:https://pcastm.pl/wydarzenie/dzien-kobiet-z-kabaretem-ot-to/
LOCATION:Powiatowe Centrum Animacji Społecznej\, Farbiarska 20/24\, Tomaszów Mazowiecki\, Łódzkie\, 97-200\, Polska
ATTACH;FMTTYPE=image/jpeg:https://pcastm.pl/files/2025/02/0f5c22ee-5f97-47bb-a691-897dd4f95427.jpg
END:VEVENT
END:VCALENDAR