BEGIN:VCALENDAR
VERSION:2.0
PRODID:-//Powiatowe Centrum Animacji Społecznej - ECPv4.9.10//NONSGML v1.0//EN
CALSCALE:GREGORIAN
METHOD:PUBLISH
X-WR-CALNAME:Powiatowe Centrum Animacji Społecznej
X-ORIGINAL-URL:https://pcastm.pl
X-WR-CALDESC:Events for Powiatowe Centrum Animacji Społecznej
BEGIN:VTIMEZONE
TZID:Europe/Warsaw
BEGIN:DAYLIGHT
TZOFFSETFROM:+0100
TZOFFSETTO:+0200
TZNAME:CEST
DTSTART:20250330T010000
END:DAYLIGHT
BEGIN:STANDARD
TZOFFSETFROM:+0200
TZOFFSETTO:+0100
TZNAME:CET
DTSTART:20251026T010000
END:STANDARD
END:VTIMEZONE
BEGIN:VEVENT
DTSTART;VALUE=DATE:20251014
DTEND;VALUE=DATE:20251015
DTSTAMP:20260424T095358
CREATED:20251013T110415Z
LAST-MODIFIED:20251013T110415Z
UID:26386-1760400000-1760486399@pcastm.pl
SUMMARY:Film i animacja -ZAPRASZAMY OSOBY CHĘTNE
DESCRIPTION:Interesujesz się filmem? Chciałbyś nauczyć się pracy z kamerą\, montażu\, zdobyć praktyczne umiejętności w produkcji filmowej zarówno od strony technicznej jak i artystycznej? Ta propozycja jest dla Ciebie! Poczuj się jak prawdziwy filmowiec. Przyjdź i zobacz jak wygląda proces powstawania filmu! Poznaj obsługę sprzętu filmowego oraz techniki obróbki cyfrowej!\nWięcej informacji oraz zapisy w sekretariacie pod nr 44 724 63 34.\n
URL:https://pcastm.pl/wydarzenie/film-i-animacja-zapraszamy-osoby-chetne/
LOCATION:Powiatowe Centrum Animacji Społecznej\, Farbiarska 20/24\, Tomaszów Mazowiecki\, Łódzkie\, 97-200\, Polska
ATTACH;FMTTYPE=image/jpeg:https://pcastm.pl/files/2025/10/film-zapraszamy.jpg
END:VEVENT
END:VCALENDAR