BEGIN:VCALENDAR
VERSION:2.0
PRODID:-//Powiatowe Centrum Animacji Społecznej - ECPv4.9.10//NONSGML v1.0//EN
CALSCALE:GREGORIAN
METHOD:PUBLISH
X-WR-CALNAME:Powiatowe Centrum Animacji Społecznej
X-ORIGINAL-URL:https://pcastm.pl
X-WR-CALDESC:Events for Powiatowe Centrum Animacji Społecznej
BEGIN:VTIMEZONE
TZID:Europe/Warsaw
BEGIN:DAYLIGHT
TZOFFSETFROM:+0100
TZOFFSETTO:+0200
TZNAME:CEST
DTSTART:20250330T010000
END:DAYLIGHT
BEGIN:STANDARD
TZOFFSETFROM:+0200
TZOFFSETTO:+0100
TZNAME:CET
DTSTART:20251026T010000
END:STANDARD
END:VTIMEZONE
BEGIN:VEVENT
DTSTART;TZID=Europe/Warsaw:20250429T130000
DTEND;TZID=Europe/Warsaw:20250429T180000
DTSTAMP:20260424T211842
CREATED:20250428T063619Z
LAST-MODIFIED:20250428T063619Z
UID:24260-1745931600-1745949600@pcastm.pl
SUMMARY:Gitara
DESCRIPTION:Chcesz doskonalić swoje umiejętności albo rozpocząć swoją przygodę z gitarą? Zapraszamy! \n
URL:https://pcastm.pl/wydarzenie/gitara-192/
LOCATION:Powiatowe Centrum Animacji Społecznej\, Farbiarska 20/24\, Tomaszów Mazowiecki\, Łódzkie\, 97-200\, Polska
ATTACH;FMTTYPE=image/jpeg:https://pcastm.pl/files/2025/04/gitara.jpg
END:VEVENT
END:VCALENDAR