BEGIN:VCALENDAR
VERSION:2.0
PRODID:-//Powiatowe Centrum Animacji Społecznej - ECPv4.9.10//NONSGML v1.0//EN
CALSCALE:GREGORIAN
METHOD:PUBLISH
X-WR-CALNAME:Powiatowe Centrum Animacji Społecznej
X-ORIGINAL-URL:https://pcastm.pl
X-WR-CALDESC:Events for Powiatowe Centrum Animacji Społecznej
BEGIN:VTIMEZONE
TZID:Europe/Warsaw
BEGIN:DAYLIGHT
TZOFFSETFROM:+0100
TZOFFSETTO:+0200
TZNAME:CEST
DTSTART:20260329T010000
END:DAYLIGHT
BEGIN:STANDARD
TZOFFSETFROM:+0200
TZOFFSETTO:+0100
TZNAME:CET
DTSTART:20261025T010000
END:STANDARD
END:VTIMEZONE
BEGIN:VEVENT
DTSTART;TZID=Europe/Warsaw:20260426T180000
DTEND;TZID=Europe/Warsaw:20260426T193000
DTSTAMP:20260424T160419
CREATED:20260424T121148Z
LAST-MODIFIED:20260424T121148Z
UID:28741-1777226400-1777231800@pcastm.pl
SUMMARY:Grupa MoCarta już 26 kwietnia w PCAS-ie
DESCRIPTION:Grupa MoCarta już 26 kwietnia w PCAS-ie \n \n
URL:https://pcastm.pl/wydarzenie/grupa-mocarta-juz-26-kwietnia-w-pcas-ie/
LOCATION:Powiatowe Centrum Animacji Społecznej\, Farbiarska 20/24\, Tomaszów Mazowiecki\, Łódzkie\, 97-200\, Polska
END:VEVENT
END:VCALENDAR