BEGIN:VCALENDAR
VERSION:2.0
PRODID:-//Powiatowe Centrum Animacji Społecznej - ECPv4.9.10//NONSGML v1.0//EN
CALSCALE:GREGORIAN
METHOD:PUBLISH
X-WR-CALNAME:Powiatowe Centrum Animacji Społecznej
X-ORIGINAL-URL:https://pcastm.pl
X-WR-CALDESC:Events for Powiatowe Centrum Animacji Społecznej
BEGIN:VTIMEZONE
TZID:Europe/Warsaw
BEGIN:DAYLIGHT
TZOFFSETFROM:+0100
TZOFFSETTO:+0200
TZNAME:CEST
DTSTART:20230326T010000
END:DAYLIGHT
BEGIN:STANDARD
TZOFFSETFROM:+0200
TZOFFSETTO:+0100
TZNAME:CET
DTSTART:20231029T010000
END:STANDARD
END:VTIMEZONE
BEGIN:VEVENT
DTSTART;TZID=Europe/Warsaw:20230513T100000
DTEND;TZID=Europe/Warsaw:20230513T150000
DTSTAMP:20260425T003611
CREATED:20230331T094222Z
LAST-MODIFIED:20230428T081142Z
UID:12427-1683972000-1683990000@pcastm.pl
SUMMARY:I Powiatowy Turniej Szachowy o Puchar Starosty Powiatu Tomaszowskiego
DESCRIPTION:Udział w I Powiatowym Turnieju Szachowym o Puchar Starosty Powiatu Tomaszowskiego może wziąć udział każdy bez względu na wiek i miejsce zamieszkania. Zgłoszenia przyjmowane są w sekretariacie\, pocztą lub mailowo (należy wysłać skany podpisanych dokumentów na adres sekretariat@pcas-tomaszow.pl). \nDodatkowo dopuszcza się zapisy na turniej w dniu rozgrywek\, w godz. 8.30 – 9.30\, ale tylko w przypadku wolnych miejsc. \n  \nI Powiatowy Turniej Szachowy o Puchar Starosty Powiatu Tomaszowskiego odbędzie się w Powiatowym Centrum Animacji Społecznej. \n \n
URL:https://pcastm.pl/wydarzenie/i-powiatowy-turniej-szachowy-o-puchar-starosty-powiatu-tomaszowskiego/
LOCATION:Powiatowe Centrum Animacji Społecznej\, Farbiarska 20/24\, Tomaszów Mazowiecki\, Łódzkie\, 97-200\, Polska
ATTACH;FMTTYPE=image/jpeg:https://pcastm.pl/files/2023/03/plakat-szachy-2023.jpg
END:VEVENT
END:VCALENDAR