BEGIN:VCALENDAR
VERSION:2.0
PRODID:-//Powiatowe Centrum Animacji Społecznej - ECPv4.9.10//NONSGML v1.0//EN
CALSCALE:GREGORIAN
METHOD:PUBLISH
X-WR-CALNAME:Powiatowe Centrum Animacji Społecznej
X-ORIGINAL-URL:https://pcastm.pl
X-WR-CALDESC:Events for Powiatowe Centrum Animacji Społecznej
BEGIN:VTIMEZONE
TZID:Europe/Warsaw
BEGIN:DAYLIGHT
TZOFFSETFROM:+0100
TZOFFSETTO:+0200
TZNAME:CEST
DTSTART:20240331T010000
END:DAYLIGHT
BEGIN:STANDARD
TZOFFSETFROM:+0200
TZOFFSETTO:+0100
TZNAME:CET
DTSTART:20241027T010000
END:STANDARD
END:VTIMEZONE
BEGIN:VEVENT
DTSTART;TZID=Europe/Warsaw:20240725T170000
DTEND;TZID=Europe/Warsaw:20240725T170000
DTSTAMP:20260425T211444
CREATED:20240708T065248Z
LAST-MODIFIED:20240708T065248Z
UID:20356-1721926800-1721926800@pcastm.pl
SUMMARY:Informatyka dla rodzin
DESCRIPTION:Wakacje\, wakacje…a my nie próżnujemy i zapraszamy Was na zajęcia. Tym razem proponujemy Wam “Informatykę dla rodzin”. Jeżeli interesujecie się projektami graficznymi i ich realizacją to ZAPRASZAMY \n
URL:https://pcastm.pl/wydarzenie/informatyka-dla-rodzin-3/
LOCATION:Powiatowe Centrum Animacji Społecznej\, Farbiarska 20/24\, Tomaszów Mazowiecki\, Łódzkie\, 97-200\, Polska
ATTACH;FMTTYPE=image/jpeg:https://pcastm.pl/files/2024/07/informatyka-dla-rodzin.jpg
END:VEVENT
END:VCALENDAR