BEGIN:VCALENDAR
VERSION:2.0
PRODID:-//Powiatowe Centrum Animacji Społecznej - ECPv4.9.10//NONSGML v1.0//EN
CALSCALE:GREGORIAN
METHOD:PUBLISH
X-WR-CALNAME:Powiatowe Centrum Animacji Społecznej
X-ORIGINAL-URL:https://pcastm.pl
X-WR-CALDESC:Events for Powiatowe Centrum Animacji Społecznej
BEGIN:VTIMEZONE
TZID:Europe/Warsaw
BEGIN:DAYLIGHT
TZOFFSETFROM:+0100
TZOFFSETTO:+0200
TZNAME:CEST
DTSTART:20240331T010000
END:DAYLIGHT
BEGIN:STANDARD
TZOFFSETFROM:+0200
TZOFFSETTO:+0100
TZNAME:CET
DTSTART:20241027T010000
END:STANDARD
END:VTIMEZONE
BEGIN:VEVENT
DTSTART;TZID=Europe/Warsaw:20240917T100000
DTEND;TZID=Europe/Warsaw:20240917T110000
DTSTAMP:20260425T160531
CREATED:20240917T071522Z
LAST-MODIFIED:20240917T071524Z
UID:20977-1726567200-1726570800@pcastm.pl
SUMMARY:Kolejne "Spotkanie z historią"
DESCRIPTION:Zapraszamy na kolejne “Spotkanie z historią”. Tym razem będzie ono dotyczyło sowieckiej agresji na Polskę\, 17 września 1939r. W programie wydarzenia: wykład tematyczny dr. Macieja Hubki\, pracownika Archiwum Państwowego w Piotrkowie oraz projekcja filmu dokumentalnego pt. “Wrzesień 1939 – Cios w plecy”. Początek o godz. 10.00. \n
URL:https://pcastm.pl/wydarzenie/kolejne-spotkanie-z-historia/
LOCATION:Powiatowe Centrum Animacji Społecznej\, Farbiarska 20/24\, Tomaszów Mazowiecki\, Łódzkie\, 97-200\, Polska
ATTACH;FMTTYPE=image/jpeg:https://pcastm.pl/files/2024/09/Obchody-wrzesień.jpg
END:VEVENT
END:VCALENDAR