BEGIN:VCALENDAR
VERSION:2.0
PRODID:-//Powiatowe Centrum Animacji Społecznej - ECPv4.9.10//NONSGML v1.0//EN
CALSCALE:GREGORIAN
METHOD:PUBLISH
X-WR-CALNAME:Powiatowe Centrum Animacji Społecznej
X-ORIGINAL-URL:https://pcastm.pl
X-WR-CALDESC:Events for Powiatowe Centrum Animacji Społecznej
BEGIN:VTIMEZONE
TZID:Europe/Warsaw
BEGIN:DAYLIGHT
TZOFFSETFROM:+0100
TZOFFSETTO:+0200
TZNAME:CEST
DTSTART:20250330T010000
END:DAYLIGHT
BEGIN:STANDARD
TZOFFSETFROM:+0200
TZOFFSETTO:+0100
TZNAME:CET
DTSTART:20251026T010000
END:STANDARD
END:VTIMEZONE
BEGIN:VEVENT
DTSTART;TZID=Europe/Warsaw:20250515T080000
DTEND;TZID=Europe/Warsaw:20250515T170000
DTSTAMP:20260424T225906
CREATED:20250514T064310Z
LAST-MODIFIED:20250514T064310Z
UID:24630-1747296000-1747328400@pcastm.pl
SUMMARY:Malarstwo i rysunek
DESCRIPTION:Lubisz rysować\, malować? To propozycja dla Ciebie! Zajęcia przeznaczone są dla dzieci\, młodzieży i dorosłych. Może wziąć w nich udział każdy\, kto chce się sprawdzić\, realizować swoją pasję\, postawić pierwsze kreski lub wybiera się do szkoły artystycznej. Grupy: 12.00-14.00 – dorośli 16.00-1800 – dzieci i młodzież. Zobaczcie co robimy na zajęciach: www.facebook.com/pcastomaszowmaz/posts/764564602315313 \n
URL:https://pcastm.pl/wydarzenie/malarstwo-i-rysunek-136/
ATTACH;FMTTYPE=image/jpeg:https://pcastm.pl/files/2025/04/malarstwo.jpg
END:VEVENT
END:VCALENDAR