BEGIN:VCALENDAR
VERSION:2.0
PRODID:-//Powiatowe Centrum Animacji Społecznej - ECPv4.9.10//NONSGML v1.0//EN
CALSCALE:GREGORIAN
METHOD:PUBLISH
X-WR-CALNAME:Powiatowe Centrum Animacji Społecznej
X-ORIGINAL-URL:https://pcastm.pl
X-WR-CALDESC:Events for Powiatowe Centrum Animacji Społecznej
BEGIN:VTIMEZONE
TZID:Europe/Warsaw
BEGIN:DAYLIGHT
TZOFFSETFROM:+0100
TZOFFSETTO:+0200
TZNAME:CEST
DTSTART:20230326T010000
END:DAYLIGHT
BEGIN:STANDARD
TZOFFSETFROM:+0200
TZOFFSETTO:+0100
TZNAME:CET
DTSTART:20231029T010000
END:STANDARD
END:VTIMEZONE
BEGIN:VEVENT
DTSTART;TZID=Europe/Warsaw:20230330T130000
DTEND;TZID=Europe/Warsaw:20230330T190000
DTSTAMP:20260425T003558
CREATED:20230330T075046Z
LAST-MODIFIED:20230330T075103Z
UID:12406-1680181200-1680202800@pcastm.pl
SUMMARY:Nauka gry na gitarze
DESCRIPTION:\nZajęcia przeznaczone dla dzieci i młodzieży. Uczestnicy uczą się jak wyglądają podstawowe akordy\, jak zagrać prosty rytm na przykładach znanych utworów oraz wiele więcej. \n\n
URL:https://pcastm.pl/wydarzenie/nauka-gry-na-gitarze-2/
ATTACH;FMTTYPE=image/jpeg:https://pcastm.pl/files/2023/03/gitara.jpg
END:VEVENT
END:VCALENDAR