BEGIN:VCALENDAR
VERSION:2.0
PRODID:-//Powiatowe Centrum Animacji Społecznej - ECPv4.9.10//NONSGML v1.0//EN
CALSCALE:GREGORIAN
METHOD:PUBLISH
X-WR-CALNAME:Powiatowe Centrum Animacji Społecznej
X-ORIGINAL-URL:https://pcastm.pl
X-WR-CALDESC:Events for Powiatowe Centrum Animacji Społecznej
BEGIN:VTIMEZONE
TZID:Europe/Warsaw
BEGIN:DAYLIGHT
TZOFFSETFROM:+0100
TZOFFSETTO:+0200
TZNAME:CEST
DTSTART:20230326T010000
END:DAYLIGHT
BEGIN:STANDARD
TZOFFSETFROM:+0200
TZOFFSETTO:+0100
TZNAME:CET
DTSTART:20231029T010000
END:STANDARD
END:VTIMEZONE
BEGIN:VEVENT
DTSTART;TZID=Europe/Warsaw:20230405T150000
DTEND;TZID=Europe/Warsaw:20230405T183000
DTSTAMP:20260425T035435
CREATED:20230404T081742Z
LAST-MODIFIED:20230404T082516Z
UID:12470-1680706800-1680719400@pcastm.pl
SUMMARY:Plastyka
DESCRIPTION:Zajęcia dla dzieci i młodzieży. \n15.00-16.00 – I grupa \n17.00-18.30 – II grupa \n
URL:https://pcastm.pl/wydarzenie/plastyka-2/
LOCATION:Powiatowe Centrum Animacji Społecznej\, Farbiarska 20/24\, Tomaszów Mazowiecki\, Łódzkie\, 97-200\, Polska
ATTACH;FMTTYPE=image/jpeg:https://pcastm.pl/files/2023/04/drawing-g37cb76e5d_1920.jpg
END:VEVENT
END:VCALENDAR