BEGIN:VCALENDAR
VERSION:2.0
PRODID:-//Powiatowe Centrum Animacji Społecznej - ECPv4.9.10//NONSGML v1.0//EN
CALSCALE:GREGORIAN
METHOD:PUBLISH
X-WR-CALNAME:Powiatowe Centrum Animacji Społecznej
X-ORIGINAL-URL:https://pcastm.pl
X-WR-CALDESC:Events for Powiatowe Centrum Animacji Społecznej
BEGIN:VTIMEZONE
TZID:Europe/Warsaw
BEGIN:DAYLIGHT
TZOFFSETFROM:+0100
TZOFFSETTO:+0200
TZNAME:CEST
DTSTART:20240331T010000
END:DAYLIGHT
BEGIN:STANDARD
TZOFFSETFROM:+0200
TZOFFSETTO:+0100
TZNAME:CET
DTSTART:20241027T010000
END:STANDARD
END:VTIMEZONE
BEGIN:VEVENT
DTSTART;TZID=Europe/Warsaw:20241211T153000
DTEND;TZID=Europe/Warsaw:20241211T170000
DTSTAMP:20260425T143738
CREATED:20241210T081412Z
LAST-MODIFIED:20241210T081412Z
UID:22276-1733931000-1733936400@pcastm.pl
SUMMARY:Plastyka – grupa starsza 10+
DESCRIPTION:Zajęcia rozwijają zdolności i zainteresowania plastyczne\, pobudzają kreatywność i wyobraźnię dziecka. Na zajęciach wykorzystywane są różnorodne materiały i techniki\, które umożliwiają rozwijanie zdolności manualnych i wyobraźni\, zwiększają możliwości percepcyjne oraz poszerzają pole wyobraźni i myślenia dziecka. \n
URL:https://pcastm.pl/wydarzenie/plastyka-grupa-starsza-10-14/
LOCATION:Powiatowe Centrum Animacji Społecznej\, Farbiarska 20/24\, Tomaszów Mazowiecki\, Łódzkie\, 97-200\, Polska
ATTACH;FMTTYPE=image/jpeg:https://pcastm.pl/files/2024/12/plastyka-2024.jpg
END:VEVENT
END:VCALENDAR