BEGIN:VCALENDAR
VERSION:2.0
PRODID:-//Powiatowe Centrum Animacji Społecznej - ECPv4.9.10//NONSGML v1.0//EN
CALSCALE:GREGORIAN
METHOD:PUBLISH
X-WR-CALNAME:Powiatowe Centrum Animacji Społecznej
X-ORIGINAL-URL:https://pcastm.pl
X-WR-CALDESC:Events for Powiatowe Centrum Animacji Społecznej
BEGIN:VTIMEZONE
TZID:Europe/Warsaw
BEGIN:DAYLIGHT
TZOFFSETFROM:+0100
TZOFFSETTO:+0200
TZNAME:CEST
DTSTART:20230326T010000
END:DAYLIGHT
BEGIN:STANDARD
TZOFFSETFROM:+0200
TZOFFSETTO:+0100
TZNAME:CET
DTSTART:20231029T010000
END:STANDARD
END:VTIMEZONE
BEGIN:VEVENT
DTSTART;TZID=Europe/Warsaw:20230621T180000
DTEND;TZID=Europe/Warsaw:20230621T180000
DTSTAMP:20260420T144615
CREATED:20230621T103220Z
LAST-MODIFIED:20230621T103220Z
UID:13931-1687370400-1687370400@pcastm.pl
SUMMARY:Powiatowa Gala Działaczy Kultury
DESCRIPTION:  \n
URL:https://pcastm.pl/wydarzenie/powiatowa-gala-dzialaczy-kultury/
ATTACH;FMTTYPE=image/png:https://pcastm.pl/files/2023/06/Zaproszenie-Dzień-Działacza-Kultury.png
END:VEVENT
END:VCALENDAR