BEGIN:VCALENDAR
VERSION:2.0
PRODID:-//Powiatowe Centrum Animacji Społecznej - ECPv4.9.10//NONSGML v1.0//EN
CALSCALE:GREGORIAN
METHOD:PUBLISH
X-WR-CALNAME:Powiatowe Centrum Animacji Społecznej
X-ORIGINAL-URL:https://pcastm.pl
X-WR-CALDESC:Events for Powiatowe Centrum Animacji Społecznej
BEGIN:VTIMEZONE
TZID:Europe/Warsaw
BEGIN:DAYLIGHT
TZOFFSETFROM:+0100
TZOFFSETTO:+0200
TZNAME:CEST
DTSTART:20250330T010000
END:DAYLIGHT
BEGIN:STANDARD
TZOFFSETFROM:+0200
TZOFFSETTO:+0100
TZNAME:CET
DTSTART:20251026T010000
END:STANDARD
END:VTIMEZONE
BEGIN:VEVENT
DTSTART;VALUE=DATE:20250530
DTEND;VALUE=DATE:20250531
DTSTAMP:20260424T181327
CREATED:20250528T063918Z
LAST-MODIFIED:20250528T063918Z
UID:24948-1748563200-1748649599@pcastm.pl
SUMMARY:Siłownia - NIECZYNNA
DESCRIPTION:
URL:https://pcastm.pl/wydarzenie/silownia-nieczynna-3/
ATTACH;FMTTYPE=image/png:https://pcastm.pl/files/2025/04/UWAGA-pomarańczowe-1.png
END:VEVENT
END:VCALENDAR