BEGIN:VCALENDAR
VERSION:2.0
PRODID:-//Powiatowe Centrum Animacji Społecznej - ECPv4.9.10//NONSGML v1.0//EN
CALSCALE:GREGORIAN
METHOD:PUBLISH
X-WR-CALNAME:Powiatowe Centrum Animacji Społecznej
X-ORIGINAL-URL:https://pcastm.pl
X-WR-CALDESC:Events for Powiatowe Centrum Animacji Społecznej
BEGIN:VTIMEZONE
TZID:Europe/Warsaw
BEGIN:DAYLIGHT
TZOFFSETFROM:+0100
TZOFFSETTO:+0200
TZNAME:CEST
DTSTART:20250330T010000
END:DAYLIGHT
BEGIN:STANDARD
TZOFFSETFROM:+0200
TZOFFSETTO:+0100
TZNAME:CET
DTSTART:20251026T010000
END:STANDARD
END:VTIMEZONE
BEGIN:VEVENT
DTSTART;TZID=Europe/Warsaw:20250203T083000
DTEND;TZID=Europe/Warsaw:20250203T093000
DTSTAMP:20260423T102458
CREATED:20250108T144657Z
LAST-MODIFIED:20250108T145047Z
UID:22477-1738571400-1738575000@pcastm.pl
SUMMARY:Spektakl "Calineczka"
DESCRIPTION:Wstęp wolny. Zapisy pod nr telefonu tel. 44 724-63-34.  Ilość miejsc jest ograniczona\, decyduje kolejność zgłoszeń! \n
URL:https://pcastm.pl/wydarzenie/spektakl-calineczka/
LOCATION:Powiatowe Centrum Animacji Społecznej\, Farbiarska 20/24\, Tomaszów Mazowiecki\, Łódzkie\, 97-200\, Polska
ATTACH;FMTTYPE=image/jpeg:https://pcastm.pl/files/2025/01/64d18ee8-0df0-4bad-9eb3-e001aa5d5703.jpg
END:VEVENT
END:VCALENDAR