BEGIN:VCALENDAR
VERSION:2.0
PRODID:-//Powiatowe Centrum Animacji Społecznej - ECPv4.9.10//NONSGML v1.0//EN
CALSCALE:GREGORIAN
METHOD:PUBLISH
X-WR-CALNAME:Powiatowe Centrum Animacji Społecznej
X-ORIGINAL-URL:https://pcastm.pl
X-WR-CALDESC:Events for Powiatowe Centrum Animacji Społecznej
BEGIN:VTIMEZONE
TZID:Europe/Warsaw
BEGIN:DAYLIGHT
TZOFFSETFROM:+0100
TZOFFSETTO:+0200
TZNAME:CEST
DTSTART:20230326T010000
END:DAYLIGHT
BEGIN:STANDARD
TZOFFSETFROM:+0200
TZOFFSETTO:+0100
TZNAME:CET
DTSTART:20231029T010000
END:STANDARD
END:VTIMEZONE
BEGIN:VEVENT
DTSTART;TZID=Europe/Warsaw:20230330T162000
DTEND;TZID=Europe/Warsaw:20230330T175000
DTSTAMP:20260424T173201
CREATED:20230329T093320Z
LAST-MODIFIED:20230329T093330Z
UID:12384-1680193200-1680198600@pcastm.pl
SUMMARY:Taniec
DESCRIPTION:Samba\, rumba a może cza-cza? Lubisz tańczyć\, aktywnie spędzać czas i poznawać nowych ludzi? Jeśli tak to ta oferta jest dla Ciebie! To super trening nie tylko dla ciała\, ale i dla ducha. \nhttps://www.facebook.com/pcastomaszowmaz/posts/642552001183241 \n
URL:https://pcastm.pl/wydarzenie/taniec-4/
LOCATION:Powiatowe Centrum Animacji Społecznej\, Farbiarska 20/24\, Tomaszów Mazowiecki\, Łódzkie\, 97-200\, Polska
ATTACH;FMTTYPE=image/jpeg:https://pcastm.pl/files/2023/03/taniec-gawlik-foto.jpg
END:VEVENT
END:VCALENDAR