BEGIN:VCALENDAR
VERSION:2.0
PRODID:-//Powiatowe Centrum Animacji Społecznej - ECPv4.9.10//NONSGML v1.0//EN
CALSCALE:GREGORIAN
METHOD:PUBLISH
X-WR-CALNAME:Powiatowe Centrum Animacji Społecznej
X-ORIGINAL-URL:https://pcastm.pl
X-WR-CALDESC:Events for Powiatowe Centrum Animacji Społecznej
BEGIN:VTIMEZONE
TZID:Europe/Warsaw
BEGIN:DAYLIGHT
TZOFFSETFROM:+0100
TZOFFSETTO:+0200
TZNAME:CEST
DTSTART:20240331T010000
END:DAYLIGHT
BEGIN:STANDARD
TZOFFSETFROM:+0200
TZOFFSETTO:+0100
TZNAME:CET
DTSTART:20241027T010000
END:STANDARD
END:VTIMEZONE
BEGIN:VEVENT
DTSTART;TZID=Europe/Warsaw:20241125T162000
DTEND;TZID=Europe/Warsaw:20241125T175000
DTSTAMP:20260425T125031
CREATED:20241125T092059Z
LAST-MODIFIED:20241125T092059Z
UID:22135-1732551600-1732557000@pcastm.pl
SUMMARY:Taniec - grupa zaawansowana
DESCRIPTION:Na zajęciach uczestnicy poznają i uczą się różnego rodzaju układów\, które są potem prezentowane podczas imprez\, organizowanych przez placówkę\, jak Turniej Kół Gospodyń Wiejskich i Miejskich. \n
URL:https://pcastm.pl/wydarzenie/taniec-grupa-zaawansowana-22/
LOCATION:Powiatowe Centrum Animacji Społecznej\, Farbiarska 20/24\, Tomaszów Mazowiecki\, Łódzkie\, 97-200\, Polska
ATTACH;FMTTYPE=image/jpeg:https://pcastm.pl/files/2024/11/IMG_0654.jpg
END:VEVENT
END:VCALENDAR